View In:
ArcGIS JavaScript
ArcGIS Online Map Viewer
ArcGIS Earth
Service Description: This orthoimagery dataset was acquired by Surdex in January 2021 during leaf-off conditions over 15 counties in the central Texas region. Aerial orthoimagery flown during leaf-off conditions allows the data user to
1. identify man-made features through the deciduous tree canopy and
2. distinguish between evergreen and deciduous vegetation
Name: StratMap/StratMap21_NCCIR_CapArea_Brazos_Kerr
Description: This orthoimagery dataset was acquired by Surdex in January 2021 during leaf-off conditions over 15 counties in the central Texas region. Aerial orthoimagery flown during leaf-off conditions allows the data user to
1. identify man-made features through the deciduous tree canopy and
2. distinguish between evergreen and deciduous vegetation
Single Fused Map Cache: false
Extent:
XMin: -1.10816238412E7
YMin: 3455298.622009997
XMax: -1.0688222126388699E7
YMax: 3638986.703599997
Spatial Reference: 102100
(3857)
LatestVCSWkid(0)
Initial Extent:
XMin: -1.10816238412E7
YMin: 3455298.622009997
XMax: -1.0688222126388699E7
YMax: 3638986.703599997
Spatial Reference: 102100
(3857)
LatestVCSWkid(0)
Full Extent:
XMin: -1.10816238412E7
YMin: 3455298.622009997
XMax: -1.0688222126388699E7
YMax: 3638986.703599997
Spatial Reference: 102100
(3857)
LatestVCSWkid(0)
Pixel Size X: 0.15240030000000032
Pixel Size Y: 0.15240030000000007
Band Count: 4
Pixel Type: U8
RasterFunction Infos: {"rasterFunctionInfos": [{
"name": "None",
"description": "",
"help": ""
}]}
Mensuration Capabilities: None
Inspection Capabilities:
Has Histograms: true
Has Colormap: false
Has Multi Dimensions : false
Rendering Rule:
Min Scale: 0
Max Scale: 0
Resampling: false
Copyright Text: Texas Geographic Information Office, Capital Area Council of Governments, Brazos Central Appraisal District, City of Austin, City of Bastrop, City of Bee Cave, City of Bryan, City of College Station, City of Round Rock, City of Horseshoe Bend, City of Smithville, City of Kerrville, Kerrville Public Utility Board, Texas A&M University, Texas Municipal Power Agency
Service Data Type: esriImageServiceDataTypeGeneric
Min Values: 21, 21, 17, 1
Max Values: 216, 215, 211, 213
Mean Values: 110.6326135292089, 105.51105888320771, 91.90619227913606, 124.54623498873617
Standard Deviation Values: 24.298192622107234, 20.701565317624212, 18.894406542858817, 18.500840463248863
Object ID Field: objectid
Fields:
-
objectid
(
type: esriFieldTypeOID, alias: OBJECTID
)
-
name
(
type: esriFieldTypeString, alias: Name, length: 200
)
-
minps
(
type: esriFieldTypeDouble, alias: MinPS
)
-
maxps
(
type: esriFieldTypeDouble, alias: MaxPS
)
-
lowps
(
type: esriFieldTypeDouble, alias: LowPS
)
-
highps
(
type: esriFieldTypeDouble, alias: HighPS
)
-
category
(
type: esriFieldTypeInteger, alias: Category
, Coded Values:
[0: Unknown]
, [1: Primary]
, [2: Overview]
, ...6 more...
)
-
tag
(
type: esriFieldTypeString, alias: Tag, length: 100
)
-
groupname
(
type: esriFieldTypeString, alias: GroupName, length: 100
)
-
productname
(
type: esriFieldTypeString, alias: ProductName, length: 100
)
-
centerx
(
type: esriFieldTypeDouble, alias: CenterX
)
-
centery
(
type: esriFieldTypeDouble, alias: CenterY
)
-
zorder
(
type: esriFieldTypeInteger, alias: ZOrder
)
-
shape
(
type: esriFieldTypeGeometry, alias: Shape
)
Default Mosaic Method: Northwest
Allowed Mosaic Methods: NorthWest,Center,LockRaster,ByAttribute,Nadir,Viewpoint,Seamline,None
SortField:
SortValue: null
Mosaic Operator: First
Default Compression Quality: 75
Default Resampling Method: Bilinear
Max Record Count: 1000
Max Image Height: 4100
Max Image Width: 15000
Max Download Image Count: 20
Max Mosaic Image Count: 20
Allow Raster Function: true
Allow Copy: true
Allow Analysis: true
Allow Compute TiePoints: false
Supports Statistics: true
Supports Advanced Queries: true
Use StandardizedQueries: true
Raster Type Infos:
Name: Raster Dataset
Description: Supports all ArcGIS Raster Datasets
Help:
Has Raster Attribute Table: false
Edit Fields Info: null
Ownership Based AccessControl For Rasters: null
Child Resources:
Info
Histograms
Statistics
Key Properties
Legend
Raster Function Infos
Supported Operations:
Export Image
Query
Identify
Compute Histograms
Compute Statistics Histograms
Get Samples
Compute Class Statistics
Query GPS Info
Find Images
Image to Map
Map to Image
Measure from Image
Image to Map Multiray
Query Boundary
Compute Pixel Location
Compute Angles
Validate
Project