View In:
ArcGIS JavaScript
ArcGIS Online Map Viewer
ArcGIS Earth
Service Description: This StratMap lidar & orthoimagery project covers the Balmorhea & Davis Mountain State Parks and their surrounding areas. This project was managed by the Texas Strategic Mapping (StratMap) Program and utilized the StratMap contracts held by the Department of Information Resources (DIR). Collection took place January 5, 2020. Lidar and orthoimagery were simultaneously collected. Data was collected and processed by Sanborn Mapping Company, LLC with third party quality assurance/quality control performed by AECOM.
Name: StratMap/StratMap20_NC_6in_Balmorhea_Davis_Mountians
Description: This StratMap lidar & orthoimagery project covers the Balmorhea & Davis Mountain State Parks and their surrounding areas. This project was managed by the Texas Strategic Mapping (StratMap) Program and utilized the StratMap contracts held by the Department of Information Resources (DIR). Collection took place January 5, 2020. Lidar and orthoimagery were simultaneously collected. Data was collected and processed by Sanborn Mapping Company, LLC with third party quality assurance/quality control performed by AECOM.
Single Fused Map Cache: false
Extent:
XMin: -1.15739241726E7
YMin: 3577914.49622916
XMax: -1.1545748251811294E7
YMax: 3632913.9375
Spatial Reference: 102100
(3857)
LatestVCSWkid(0)
Initial Extent:
XMin: -1.15739241726E7
YMin: 3577914.49622916
XMax: -1.1545748251811294E7
YMax: 3632913.9375
Spatial Reference: 102100
(3857)
LatestVCSWkid(0)
Full Extent:
XMin: -1.15739241726E7
YMin: 3577914.49622916
XMax: -1.1545748251811294E7
YMax: 3632913.9375
Spatial Reference: 102100
(3857)
LatestVCSWkid(0)
Pixel Size X: 0.1524003050000019
Pixel Size Y: 0.15240030499999968
Band Count: 4
Pixel Type: U8
RasterFunction Infos: {"rasterFunctionInfos": [{
"name": "None",
"description": "",
"help": ""
}]}
Mensuration Capabilities: Basic
Inspection Capabilities:
Has Histograms: true
Has Colormap: false
Has Multi Dimensions : false
Rendering Rule:
Min Scale: 0
Max Scale: 0
Resampling: false
Copyright Text: Texas Geographic Information Office TPWD
Service Data Type: esriImageServiceDataTypeGeneric
Min Values: 5, 17, 29, 2
Max Values: 240, 242, 242, 223
Mean Values: 124.60388898299934, 111.51221882438857, 98.57891639845508, 117.92720415823429
Standard Deviation Values: 26.028200450630468, 22.21481995914247, 18.390638461167935, 20.42575413234237
Object ID Field: objectid
Fields:
-
objectid
(
type: esriFieldTypeOID, alias: objectid
)
-
name
(
type: esriFieldTypeString, alias: name, length: 200
)
-
minps
(
type: esriFieldTypeDouble, alias: minps
)
-
maxps
(
type: esriFieldTypeDouble, alias: maxps
)
-
lowps
(
type: esriFieldTypeDouble, alias: lowps
)
-
highps
(
type: esriFieldTypeDouble, alias: highps
)
-
category
(
type: esriFieldTypeInteger, alias: category
, Coded Values:
[0: Unknown]
, [1: Primary]
, [2: Overview]
, ...6 more...
)
-
tag
(
type: esriFieldTypeString, alias: tag, length: 100
)
-
groupname
(
type: esriFieldTypeString, alias: groupname, length: 100
)
-
productname
(
type: esriFieldTypeString, alias: productname, length: 100
)
-
centerx
(
type: esriFieldTypeDouble, alias: centerx
)
-
centery
(
type: esriFieldTypeDouble, alias: centery
)
-
zorder
(
type: esriFieldTypeInteger, alias: zorder
)
-
shape
(
type: esriFieldTypeGeometry, alias: shape
)
-
st_area(shape)
(
type: esriFieldTypeDouble, alias: st_area(shape)
)
-
st_perimeter(shape)
(
type: esriFieldTypeDouble, alias: st_perimeter(shape)
)
Default Mosaic Method: Northwest
Allowed Mosaic Methods: NorthWest,Center,LockRaster,ByAttribute,Nadir,Viewpoint,Seamline,None
SortField:
SortValue: null
Mosaic Operator: First
Default Compression Quality: 75
Default Resampling Method: Bilinear
Max Record Count: 1000
Max Image Height: 4100
Max Image Width: 15000
Max Download Image Count: 20
Max Mosaic Image Count: 20
Allow Raster Function: true
Allow Copy: true
Allow Analysis: true
Allow Compute TiePoints: false
Supports Statistics: true
Supports Advanced Queries: true
Use StandardizedQueries: true
Raster Type Infos:
Name: Raster Dataset
Description: Supports all ArcGIS Raster Datasets
Help:
Has Raster Attribute Table: false
Edit Fields Info: null
Ownership Based AccessControl For Rasters: null
Child Resources:
Info
Histograms
Statistics
Key Properties
Legend
Raster Function Infos
Supported Operations:
Export Image
Query
Identify
Measure
Compute Histograms
Compute Statistics Histograms
Get Samples
Compute Class Statistics
Query GPS Info
Find Images
Image to Map
Map to Image
Measure from Image
Image to Map Multiray
Query Boundary
Compute Pixel Location
Compute Angles
Validate
Project