View In:
ArcGIS JavaScript
ArcGIS Online Map Viewer
ArcGIS Earth
Service Description: This orthoimagery dataset was acquired by Surdex in January 2020 during leaf-off conditions in Bastrop, Blanco, Burnet, Caldwell, Fayette, Hays, Lee, Llano, McLennan, Travis, and Williamson counties.
Aerial orthoimagery flown during leaf-off conditions allows the data user to
1. identify man-made features through the deciduous tree canopy and
2. distinguish between evergreen and deciduous vegetation
Name: StratMap/StratMap20_NCCIR_CapArea_McLennan
Description: This orthoimagery dataset was acquired by Surdex in January 2020 during leaf-off conditions in Bastrop, Blanco, Burnet, Caldwell, Fayette, Hays, Lee, Llano, McLennan, Travis, and Williamson counties.
Aerial orthoimagery flown during leaf-off conditions allows the data user to
1. identify man-made features through the deciduous tree canopy and
2. distinguish between evergreen and deciduous vegetation
Single Fused Map Cache: false
Extent:
XMin: -1.101975731459672E7
YMin: 3452938.2236894644
XMax: -1.074645176059472E7
YMax: 3750241.3385306643
Spatial Reference: 102100
(3857)
LatestVCSWkid(0)
Initial Extent:
XMin: -1.101975731459672E7
YMin: 3452938.2236894644
XMax: -1.074645176059472E7
YMax: 3750241.3385306643
Spatial Reference: 102100
(3857)
LatestVCSWkid(0)
Full Extent:
XMin: -1.101975731459672E7
YMin: 3452938.2236894644
XMax: -1.074645176059472E7
YMax: 3750241.3385306643
Spatial Reference: 102100
(3857)
LatestVCSWkid(0)
Pixel Size X: 0.07620015000000001
Pixel Size Y: 0.07620014999999998
Band Count: 4
Pixel Type: U8
RasterFunction Infos: {"rasterFunctionInfos": [{
"name": "None",
"description": "",
"help": ""
}]}
Mensuration Capabilities: None
Inspection Capabilities:
Has Histograms: true
Has Colormap: false
Has Multi Dimensions : false
Rendering Rule:
Min Scale: 0
Max Scale: 0
Resampling: false
Copyright Text: Texas Geographic Information Office, Capital Area Council of Governments, City of Bee Cave, City of Burnet, City of Marble Falls, City of Pflugerville, City of Round Rock, City of Waco, City of West Lake Hills, McLennan County and McLennan County 9-1-1.
Service Data Type: esriImageServiceDataTypeGeneric
Min Values: 30, 41, 44, 1
Max Values: 224, 225, 225, 219
Mean Values: 107.07927795910116, 106.37181997824169, 93.57013921268195, 115.1872621505797
Standard Deviation Values: 20.417985507540948, 17.24221835023541, 16.108727500865236, 20.71576707587197
Object ID Field: objectid
Fields:
-
objectid
(
type: esriFieldTypeOID, alias: OBJECTID
)
-
name
(
type: esriFieldTypeString, alias: Name, length: 200
)
-
minps
(
type: esriFieldTypeDouble, alias: MinPS
)
-
maxps
(
type: esriFieldTypeDouble, alias: MaxPS
)
-
lowps
(
type: esriFieldTypeDouble, alias: LowPS
)
-
highps
(
type: esriFieldTypeDouble, alias: HighPS
)
-
category
(
type: esriFieldTypeInteger, alias: Category
, Coded Values:
[0: Unknown]
, [1: Primary]
, [2: Overview]
, ...6 more...
)
-
tag
(
type: esriFieldTypeString, alias: Tag, length: 100
)
-
groupname
(
type: esriFieldTypeString, alias: GroupName, length: 100
)
-
productname
(
type: esriFieldTypeString, alias: ProductName, length: 100
)
-
centerx
(
type: esriFieldTypeDouble, alias: CenterX
)
-
centery
(
type: esriFieldTypeDouble, alias: CenterY
)
-
zorder
(
type: esriFieldTypeInteger, alias: ZOrder
)
-
shape
(
type: esriFieldTypeGeometry, alias: Shape
)
Default Mosaic Method: Northwest
Allowed Mosaic Methods: NorthWest,Center,LockRaster,ByAttribute,Nadir,Viewpoint,Seamline,None
SortField:
SortValue: null
Mosaic Operator: First
Default Compression Quality: 75
Default Resampling Method: Bilinear
Max Record Count: 1000
Max Image Height: 4100
Max Image Width: 15000
Max Download Image Count: 20
Max Mosaic Image Count: 20
Allow Raster Function: true
Allow Copy: true
Allow Analysis: true
Allow Compute TiePoints: false
Supports Statistics: true
Supports Advanced Queries: true
Use StandardizedQueries: true
Raster Type Infos:
Name: Raster Dataset
Description: Supports all ArcGIS Raster Datasets
Help:
Has Raster Attribute Table: false
Edit Fields Info: null
Ownership Based AccessControl For Rasters: null
Child Resources:
Info
Histograms
Statistics
Key Properties
Legend
Raster Function Infos
Supported Operations:
Export Image
Query
Identify
Compute Histograms
Compute Statistics Histograms
Get Samples
Compute Class Statistics
Query GPS Info
Find Images
Image to Map
Map to Image
Measure from Image
Image to Map Multiray
Query Boundary
Compute Pixel Location
Compute Angles
Validate
Project