View In:
ArcGIS JavaScript
ArcGIS Online Map Viewer
ArcGIS Earth
Service Description: This orthoimagery dataset was acquired by Surdex in January 2020 during leaf-off conditions in Bastrop, Blanco, Burnet, Caldwell, Fayette, Hays, Lee, Llano, McLennan, Travis, and Williamson counties.
Name: StratMap/StratMap20_NCCIR_3in_West_Lake_Hills
Description: This orthoimagery dataset was acquired by Surdex in January 2020 during leaf-off conditions in Bastrop, Blanco, Burnet, Caldwell, Fayette, Hays, Lee, Llano, McLennan, Travis, and Williamson counties.
Single Fused Map Cache: false
Extent:
XMin: -1.08902591012E7
YMin: 3537663.7884103153
XMax: -1.0884877694037186E7
YMax: 3543858.6322000027
Spatial Reference: 102100
(3857)
Initial Extent:
XMin: -1.08902591012E7
YMin: 3537663.7884103153
XMax: -1.0884877694037186E7
YMax: 3543858.6322000027
Spatial Reference: 102100
(3857)
Full Extent:
XMin: -1.08902591012E7
YMin: 3537663.7884103153
XMax: -1.0884877694037186E7
YMax: 3543858.6322000027
Spatial Reference: 102100
(3857)
Pixel Size X: 0.07620015240029268
Pixel Size Y: 0.07620015240030235
Band Count: 4
Pixel Type: U8
RasterFunction Infos: {"rasterFunctionInfos": [{
"name": "None",
"description": "",
"help": ""
}]}
Mensuration Capabilities:
Inspection Capabilities:
Has Histograms: true
Has Colormap: false
Has Multi Dimensions : false
Rendering Rule:
Min Scale: 0
Max Scale: 0
Resampling: false
Copyright Text: Texas Geographic Information Office, Capital Area Council of Governments, City of Bee Cave, City of Burnet, City of Marble Falls, City of Pflugerville, City of Round Rock, City of Waco, City of West Lake Hills, McLennan County and McLennan County 9-1-1.
Service Data Type: esriImageServiceDataTypeGeneric
Min Values: 0, 0, 14, 0
Max Values: 255, 255, 255, 253
Mean Values: 89.36648758634975, 93.56992687668145, 82.56818898676988, 110.6711285564361
Standard Deviation Values: 42.12725364519196, 39.12343597260463, 40.47951806395009, 41.62292700528698
Object ID Field: objectid
Fields:
-
objectid
(
type: esriFieldTypeOID, alias: OBJECTID
)
-
name
(
type: esriFieldTypeString, alias: Name, length: 200
)
-
minps
(
type: esriFieldTypeDouble, alias: MinPS
)
-
maxps
(
type: esriFieldTypeDouble, alias: MaxPS
)
-
lowps
(
type: esriFieldTypeDouble, alias: LowPS
)
-
highps
(
type: esriFieldTypeDouble, alias: HighPS
)
-
category
(
type: esriFieldTypeInteger, alias: Category
, Coded Values:
[0: Unknown]
, [1: Primary]
, [2: Overview]
, ...6 more...
)
-
tag
(
type: esriFieldTypeString, alias: Tag, length: 100
)
-
groupname
(
type: esriFieldTypeString, alias: GroupName, length: 100
)
-
productname
(
type: esriFieldTypeString, alias: ProductName, length: 100
)
-
centerx
(
type: esriFieldTypeDouble, alias: CenterX
)
-
centery
(
type: esriFieldTypeDouble, alias: CenterY
)
-
zorder
(
type: esriFieldTypeInteger, alias: ZOrder
)
-
shape
(
type: esriFieldTypeGeometry, alias: Shape
)
Default Mosaic Method: Northwest
Allowed Mosaic Methods: NorthWest,Center,LockRaster,ByAttribute,Nadir,Viewpoint,Seamline,None
SortField:
SortValue: null
Mosaic Operator: First
Default Compression Quality: 75
Default Resampling Method: Bilinear
Max Record Count: 1000
Max Image Height: 4100
Max Image Width: 15000
Max Download Image Count: 20
Max Mosaic Image Count: 20
Allow Raster Function: true
Allow Copy: true
Allow Analysis: true
Allow Compute TiePoints: false
Supports Statistics: true
Supports Advanced Queries: true
Use StandardizedQueries: true
Raster Type Infos:
Name: Raster Dataset
Description: Supports all ArcGIS Raster Datasets
Help:
Has Raster Attribute Table: false
Edit Fields Info: null
Ownership Based AccessControl For Rasters: null
Child Resources:
Info
Histograms
Statistics
Key Properties
Legend
Raster Function Infos
Supported Operations:
Export Image
Query
Identify
Measure
Compute Histograms
Compute Statistics Histograms
Get Samples
Compute Class Statistics
Query GPS Info
Find Images
Image to Map
Map to Image
Measure from Image
Image to Map Multiray
Query Boundary
Compute Pixel Location
Compute Angles
Validate
Project