View In:
ArcGIS JavaScript
ArcGIS Online Map Viewer
ArcGIS Earth
Service Description: This orthoimagery dataset was acquired by Surdex Corporation in January 2018 during leaf-off conditions in Anderson, Camp, Cherokee, Gregg, Harrison, Marion, Panola, Rains, Rusk, Smith, Upshur, Van Zandt and Wood Counties. Aerial orthoimagery flown during leaf-off conditions allows the data user to 1) identify manmade features through the deciduous tree canopy and 2) distinguish between evergreen and deciduous vegetation. The entire dataset is available at 6-inch pixel resolution. This pixel resolution allows the user to identify detailed features on the ground such as road centerlines, manholes and culverts.
Name: StratMap/StratMap18_NCCIR_6in_Smith_ETX
Description: This orthoimagery dataset was acquired by Surdex Corporation in January 2018 during leaf-off conditions in Anderson, Camp, Cherokee, Gregg, Harrison, Marion, Panola, Rains, Rusk, Smith, Upshur, Van Zandt and Wood Counties. Aerial orthoimagery flown during leaf-off conditions allows the data user to 1) identify manmade features through the deciduous tree canopy and 2) distinguish between evergreen and deciduous vegetation. The entire dataset is available at 6-inch pixel resolution. This pixel resolution allows the user to identify detailed features on the ground such as road centerlines, manholes and culverts.
Single Fused Map Cache: false
Extent:
XMin: -1.06990046809E7
YMin: 3687490.849526946
XMax: -1.0463833332157303E7
YMax: 3907927.3747999966
Spatial Reference: 102100
(3857)
LatestVCSWkid(0)
Initial Extent:
XMin: -1.06990046809E7
YMin: 3687490.849526946
XMax: -1.0463833332157303E7
YMax: 3907927.3747999966
Spatial Reference: 102100
(3857)
LatestVCSWkid(0)
Full Extent:
XMin: -1.06990046809E7
YMin: 3687490.849526946
XMax: -1.0463833332157303E7
YMax: 3907927.3747999966
Spatial Reference: 102100
(3857)
LatestVCSWkid(0)
Pixel Size X: 0.15240030480060954
Pixel Size Y: 0.15240030480060968
Band Count: 4
Pixel Type: U8
RasterFunction Infos: {"rasterFunctionInfos": [{
"name": "None",
"description": "",
"help": ""
}]}
Mensuration Capabilities: None
Inspection Capabilities:
Has Histograms: true
Has Colormap: false
Has Multi Dimensions : false
Rendering Rule:
Min Scale: 0
Max Scale: 0
Resampling: false
Copyright Text: Texas Geographic Information Office, City of Tyler, East Texas Council of Governments, Smith County, Smith County 9-1-1, Smith County Appraisal District, Texas Eastern 9-1-1
Service Data Type: esriImageServiceDataTypeGeneric
Min Values: 17, 19, 22, 1
Max Values: 243, 246, 252, 238
Mean Values: 103.36208791046309, 100.66667454341592, 84.01341903240348, 120.8077087807091
Standard Deviation Values: 36.18089913039349, 29.98316022752621, 27.575139896894914, 27.627084677616352
Object ID Field: objectid
Fields:
-
objectid
(
type: esriFieldTypeOID, alias: OBJECTID
)
-
name
(
type: esriFieldTypeString, alias: Name, length: 200
)
-
minps
(
type: esriFieldTypeDouble, alias: MinPS
)
-
maxps
(
type: esriFieldTypeDouble, alias: MaxPS
)
-
lowps
(
type: esriFieldTypeDouble, alias: LowPS
)
-
highps
(
type: esriFieldTypeDouble, alias: HighPS
)
-
category
(
type: esriFieldTypeInteger, alias: Category
, Coded Values:
[0: Unknown]
, [1: Primary]
, [2: Overview]
, ...6 more...
)
-
tag
(
type: esriFieldTypeString, alias: Tag, length: 100
)
-
groupname
(
type: esriFieldTypeString, alias: GroupName, length: 100
)
-
productname
(
type: esriFieldTypeString, alias: ProductName, length: 100
)
-
centerx
(
type: esriFieldTypeDouble, alias: CenterX
)
-
centery
(
type: esriFieldTypeDouble, alias: CenterY
)
-
zorder
(
type: esriFieldTypeInteger, alias: ZOrder
)
-
shape
(
type: esriFieldTypeGeometry, alias: Shape
)
Default Mosaic Method: Northwest
Allowed Mosaic Methods: NorthWest,Center,LockRaster,ByAttribute,Nadir,Viewpoint,Seamline,None
SortField:
SortValue: null
Mosaic Operator: First
Default Compression Quality: 75
Default Resampling Method: Bilinear
Max Record Count: 1000
Max Image Height: 4100
Max Image Width: 15000
Max Download Image Count: 20
Max Mosaic Image Count: 20
Allow Raster Function: true
Allow Copy: true
Allow Analysis: true
Allow Compute TiePoints: false
Supports Statistics: true
Supports Advanced Queries: true
Use StandardizedQueries: true
Raster Type Infos:
Name: Raster Dataset
Description: Supports all ArcGIS Raster Datasets
Help:
Has Raster Attribute Table: false
Edit Fields Info: null
Ownership Based AccessControl For Rasters: null
Child Resources:
Info
Histograms
Statistics
Key Properties
Legend
Raster Function Infos
Supported Operations:
Export Image
Query
Identify
Compute Histograms
Compute Statistics Histograms
Get Samples
Compute Class Statistics
Query GPS Info
Find Images
Image to Map
Map to Image
Measure from Image
Image to Map Multiray
Query Boundary
Compute Pixel Location
Compute Angles
Validate
Project