View In:
ArcGIS JavaScript
ArcGIS Online Map Viewer
ArcGIS Earth
Service Description: The 6-inch/12-inch orthoimagery were acquired in 2015 during leaf-on conditions. The dataset covers three small areas:- Hidden Pines near the City of Bastrop, Hueco Tanks near the City of El Paso, and Powderhorn Ranch near the City of Port O'Connor. Area covered in total by all three areas is approximately 220 square miles.
Name: StratMap/StratMap15_NCCIR_6in_TPWD_Hidden_Pines
Description: The 6-inch/12-inch orthoimagery were acquired in 2015 during leaf-on conditions. The dataset covers three small areas:- Hidden Pines near the City of Bastrop, Hueco Tanks near the City of El Paso, and Powderhorn Ranch near the City of Port O'Connor. Area covered in total by all three areas is approximately 220 square miles.
Single Fused Map Cache: false
Extent:
XMin: -1.08346896684E7
YMin: 3505390.666554096
XMax: -1.0811730868005602E7
YMax: 3535894.0437999964
Spatial Reference: 102100
(3857)
LatestVCSWkid(0)
Initial Extent:
XMin: -1.08346896684E7
YMin: 3505390.666554096
XMax: -1.0811730868005602E7
YMax: 3535894.0437999964
Spatial Reference: 102100
(3857)
LatestVCSWkid(0)
Full Extent:
XMin: -1.08346896684E7
YMin: 3505390.666554096
XMax: -1.0811730868005602E7
YMax: 3535894.0437999964
Spatial Reference: 102100
(3857)
LatestVCSWkid(0)
Pixel Size X: 0.15240029999999397
Pixel Size Y: 0.1524003000000011
Band Count: 4
Pixel Type: U8
RasterFunction Infos: {"rasterFunctionInfos": [{
"name": "None",
"description": "",
"help": ""
}]}
Mensuration Capabilities: None
Inspection Capabilities:
Has Histograms: true
Has Colormap: false
Has Multi Dimensions : false
Rendering Rule:
Min Scale: 0
Max Scale: 0
Resampling: false
Copyright Text: Texas Geographic Information Office, TPWD
Service Data Type: esriImageServiceDataTypeGeneric
Min Values: 10, 10, 21, 4
Max Values: 241, 235, 236, 249
Mean Values: 82.50435423454613, 84.32618717508919, 72.15368393426775, 111.10227348039281
Standard Deviation Values: 31.848849643092844, 28.97003860800162, 23.21290913280399, 31.387480032096473
Object ID Field: objectid
Fields:
-
objectid
(
type: esriFieldTypeOID, alias: OBJECTID
)
-
name
(
type: esriFieldTypeString, alias: Name, length: 200
)
-
minps
(
type: esriFieldTypeDouble, alias: MinPS
)
-
maxps
(
type: esriFieldTypeDouble, alias: MaxPS
)
-
lowps
(
type: esriFieldTypeDouble, alias: LowPS
)
-
highps
(
type: esriFieldTypeDouble, alias: HighPS
)
-
category
(
type: esriFieldTypeInteger, alias: Category
, Coded Values:
[0: Unknown]
, [1: Primary]
, [2: Overview]
, ...6 more...
)
-
tag
(
type: esriFieldTypeString, alias: Tag, length: 100
)
-
groupname
(
type: esriFieldTypeString, alias: GroupName, length: 100
)
-
productname
(
type: esriFieldTypeString, alias: ProductName, length: 100
)
-
centerx
(
type: esriFieldTypeDouble, alias: CenterX
)
-
centery
(
type: esriFieldTypeDouble, alias: CenterY
)
-
zorder
(
type: esriFieldTypeInteger, alias: ZOrder
)
-
shape
(
type: esriFieldTypeGeometry, alias: Shape
)
Default Mosaic Method: Northwest
Allowed Mosaic Methods: NorthWest,Center,LockRaster,ByAttribute,Nadir,Viewpoint,Seamline,None
SortField:
SortValue: null
Mosaic Operator: First
Default Compression Quality: 75
Default Resampling Method: Bilinear
Max Record Count: 1000
Max Image Height: 4100
Max Image Width: 15000
Max Download Image Count: 20
Max Mosaic Image Count: 20
Allow Raster Function: true
Allow Copy: true
Allow Analysis: true
Allow Compute TiePoints: false
Supports Statistics: true
Supports Advanced Queries: true
Use StandardizedQueries: true
Raster Type Infos:
Name: Raster Dataset
Description: Supports all ArcGIS Raster Datasets
Help:
Has Raster Attribute Table: false
Edit Fields Info: null
Ownership Based AccessControl For Rasters: null
Child Resources:
Info
Histograms
Statistics
Key Properties
Legend
Raster Function Infos
Supported Operations:
Export Image
Query
Identify
Compute Histograms
Compute Statistics Histograms
Get Samples
Compute Class Statistics
Query GPS Info
Find Images
Image to Map
Map to Image
Measure from Image
Image to Map Multiray
Query Boundary
Compute Pixel Location
Compute Angles
Validate
Project