View In:
ArcGIS JavaScript
ArcGIS Online Map Viewer
ArcGIS Earth
Service Description: This orthoimagery dataset was acquired by Surdex Corporation in late January 2015 during leaf-off conditions in Brazos County, portions of neighboring Grimes County, and the City of Palestine. Aerial orthoimagery flown during leaf-off conditions allows the data user to 1) identify man-made features through the deciduous tree canopy and 2) distinguish between evergreen and deciduous vegetation. The entire dataset is available at 6-inch pixel resolution. This pixel resolution allows the user to identify detailed features on the ground such as road centerlines, manholes and culverts.
Name: StratMap/StratMap15_NCCIR_6in_Brazos
Description: This orthoimagery dataset was acquired by Surdex Corporation in late January 2015 during leaf-off conditions in Brazos County, portions of neighboring Grimes County, and the City of Palestine. Aerial orthoimagery flown during leaf-off conditions allows the data user to 1) identify man-made features through the deciduous tree canopy and 2) distinguish between evergreen and deciduous vegetation. The entire dataset is available at 6-inch pixel resolution. This pixel resolution allows the user to identify detailed features on the ground such as road centerlines, manholes and culverts.
Single Fused Map Cache: false
Extent:
XMin: -1.07651184926E7
YMin: 3545621.706537697
XMax: -1.069518199493E7
YMax: 3630895.922799997
Spatial Reference: 102100
(3857)
LatestVCSWkid(0)
Initial Extent:
XMin: -1.07651184926E7
YMin: 3545621.706537697
XMax: -1.069518199493E7
YMax: 3630895.922799997
Spatial Reference: 102100
(3857)
LatestVCSWkid(0)
Full Extent:
XMin: -1.07651184926E7
YMin: 3545621.706537697
XMax: -1.069518199493E7
YMax: 3630895.922799997
Spatial Reference: 102100
(3857)
LatestVCSWkid(0)
Pixel Size X: 0.1524003000000009
Pixel Size Y: 0.15240030000000007
Band Count: 4
Pixel Type: U8
RasterFunction Infos: {"rasterFunctionInfos": [{
"name": "None",
"description": "",
"help": ""
}]}
Mensuration Capabilities: None
Inspection Capabilities:
Has Histograms: true
Has Colormap: false
Has Multi Dimensions : false
Rendering Rule:
Min Scale: 0
Max Scale: 0
Resampling: false
Copyright Text: Texas Geographic Information Office, Brazos Central Appraisal District, City of College Station, City of Bryan, City of Palestine, Texas A&M University, Texas Municipal Power Agency
Service Data Type: esriImageServiceDataTypeGeneric
Min Values: 15, 17, 22, 3
Max Values: 234, 233, 235, 209
Mean Values: 98.75560598492014, 90.13257871403859, 74.90969934905935, 119.60521612213238
Standard Deviation Values: 30.544701624080872, 24.581565102595615, 20.650507291062517, 26.603322554799444
Object ID Field: objectid
Fields:
-
objectid
(
type: esriFieldTypeOID, alias: OBJECTID
)
-
name
(
type: esriFieldTypeString, alias: Name, length: 200
)
-
minps
(
type: esriFieldTypeDouble, alias: MinPS
)
-
maxps
(
type: esriFieldTypeDouble, alias: MaxPS
)
-
lowps
(
type: esriFieldTypeDouble, alias: LowPS
)
-
highps
(
type: esriFieldTypeDouble, alias: HighPS
)
-
category
(
type: esriFieldTypeInteger, alias: Category
, Coded Values:
[0: Unknown]
, [1: Primary]
, [2: Overview]
, ...6 more...
)
-
tag
(
type: esriFieldTypeString, alias: Tag, length: 100
)
-
groupname
(
type: esriFieldTypeString, alias: GroupName, length: 100
)
-
productname
(
type: esriFieldTypeString, alias: ProductName, length: 100
)
-
centerx
(
type: esriFieldTypeDouble, alias: CenterX
)
-
centery
(
type: esriFieldTypeDouble, alias: CenterY
)
-
zorder
(
type: esriFieldTypeInteger, alias: ZOrder
)
-
shape
(
type: esriFieldTypeGeometry, alias: Shape
)
Default Mosaic Method: Northwest
Allowed Mosaic Methods: NorthWest,Center,LockRaster,ByAttribute,Nadir,Viewpoint,Seamline,None
SortField:
SortValue: null
Mosaic Operator: First
Default Compression Quality: 75
Default Resampling Method: Bilinear
Max Record Count: 1000
Max Image Height: 4100
Max Image Width: 15000
Max Download Image Count: 20
Max Mosaic Image Count: 20
Allow Raster Function: true
Allow Copy: true
Allow Analysis: true
Allow Compute TiePoints: false
Supports Statistics: true
Supports Advanced Queries: true
Use StandardizedQueries: true
Raster Type Infos:
Name: Raster Dataset
Description: Supports all ArcGIS Raster Datasets
Help:
Has Raster Attribute Table: false
Edit Fields Info: null
Ownership Based AccessControl For Rasters: null
Child Resources:
Info
Histograms
Statistics
Key Properties
Legend
Raster Function Infos
Supported Operations:
Export Image
Query
Identify
Compute Histograms
Compute Statistics Histograms
Get Samples
Compute Class Statistics
Query GPS Info
Find Images
Image to Map
Map to Image
Measure from Image
Image to Map Multiray
Query Boundary
Compute Pixel Location
Compute Angles
Validate
Project