View In:
ArcGIS JavaScript
ArcGIS Online Map Viewer
ArcGIS Earth
Service Description: The 6-inch/12-inch orthoimagery were acquired in 2015 during leaf-on conditions. The dataset covers three small areas:- Hidden Pines near the City of Bastrop, Hueco Tanks near the City of El Paso, and Powderhorn Ranch near the City of Port O'Connor. Area covered in total by all three areas is approximately 220 square miles.
Name: StratMap/StratMap15_NCCIR_12in_TPWD_Powderhorn_Ranch
Description: The 6-inch/12-inch orthoimagery were acquired in 2015 during leaf-on conditions. The dataset covers three small areas:- Hidden Pines near the City of Bastrop, Hueco Tanks near the City of El Paso, and Powderhorn Ranch near the City of Port O'Connor. Area covered in total by all three areas is approximately 220 square miles.
Single Fused Map Cache: false
Extent:
XMin: -1.07494363561E7
YMin: 3302123.944563438
XMax: -1.073348492097626E7
YMax: 3314284.269699998
Spatial Reference: 102100
(3857)
LatestVCSWkid(0)
Initial Extent:
XMin: -1.07494363561E7
YMin: 3302123.944563438
XMax: -1.073348492097626E7
YMax: 3314284.269699998
Spatial Reference: 102100
(3857)
LatestVCSWkid(0)
Full Extent:
XMin: -1.07494363561E7
YMin: 3302123.944563438
XMax: -1.073348492097626E7
YMax: 3314284.269699998
Spatial Reference: 102100
(3857)
LatestVCSWkid(0)
Pixel Size X: 0.3048006099999955
Pixel Size Y: 0.30480061000000036
Band Count: 4
Pixel Type: U8
RasterFunction Infos: {"rasterFunctionInfos": [{
"name": "None",
"description": "",
"help": ""
}]}
Mensuration Capabilities:
Inspection Capabilities:
Has Histograms: true
Has Colormap: false
Has Multi Dimensions : false
Rendering Rule:
Min Scale: 0
Max Scale: 0
Resampling: false
Copyright Text: Texas Geographic Information Office, TPWD
Service Data Type: esriImageServiceDataTypeGeneric
Min Values: 30, 27, 41, 8
Max Values: 230, 234, 236, 217
Mean Values: 83.76009603211908, 82.22361377364535, 77.4940002531955, 114.29849682304284
Standard Deviation Values: 21.292865483171596, 19.222912355510783, 15.312368503325759, 52.439579828358774
Object ID Field: objectid
Fields:
-
objectid
(
type: esriFieldTypeOID, alias: OBJECTID
)
-
name
(
type: esriFieldTypeString, alias: Name, length: 200
)
-
minps
(
type: esriFieldTypeDouble, alias: MinPS
)
-
maxps
(
type: esriFieldTypeDouble, alias: MaxPS
)
-
lowps
(
type: esriFieldTypeDouble, alias: LowPS
)
-
highps
(
type: esriFieldTypeDouble, alias: HighPS
)
-
category
(
type: esriFieldTypeInteger, alias: Category
, Coded Values:
[0: Unknown]
, [1: Primary]
, [2: Overview]
, ...6 more...
)
-
tag
(
type: esriFieldTypeString, alias: Tag, length: 100
)
-
groupname
(
type: esriFieldTypeString, alias: GroupName, length: 100
)
-
productname
(
type: esriFieldTypeString, alias: ProductName, length: 100
)
-
centerx
(
type: esriFieldTypeDouble, alias: CenterX
)
-
centery
(
type: esriFieldTypeDouble, alias: CenterY
)
-
zorder
(
type: esriFieldTypeInteger, alias: ZOrder
)
-
shape
(
type: esriFieldTypeGeometry, alias: Shape
)
Default Mosaic Method: Northwest
Allowed Mosaic Methods: NorthWest,Center,LockRaster,ByAttribute,Nadir,Viewpoint,Seamline,None
SortField:
SortValue: null
Mosaic Operator: First
Default Compression Quality: 75
Default Resampling Method: Bilinear
Max Record Count: 1000
Max Image Height: 4100
Max Image Width: 15000
Max Download Image Count: 20
Max Mosaic Image Count: 20
Allow Raster Function: true
Allow Copy: true
Allow Analysis: true
Allow Compute TiePoints: false
Supports Statistics: true
Supports Advanced Queries: true
Use StandardizedQueries: true
Raster Type Infos:
Name: Raster Dataset
Description: Supports all ArcGIS Raster Datasets
Help:
Has Raster Attribute Table: false
Edit Fields Info: null
Ownership Based AccessControl For Rasters: null
Child Resources:
Info
Histograms
Statistics
Key Properties
Legend
Raster Function Infos
Supported Operations:
Export Image
Query
Identify
Measure
Compute Histograms
Compute Statistics Histograms
Get Samples
Compute Class Statistics
Query GPS Info
Find Images
Image to Map
Map to Image
Measure from Image
Image to Map Multiray
Query Boundary
Compute Pixel Location
Compute Angles
Validate
Project