View In:
ArcGIS JavaScript
ArcGIS Online Map Viewer
ArcGIS Earth
Service Description: The 12-inch 4-band (RGBIR) natural color and color infrared orthoimagery were acquired in 2015 during leaf-off conditions. The dataset covers the El Paso city-wide area. Area covered in total is approximately 656 square miles.
Name: StratMap/StratMap15_NCCIR_12in_NGA_ElPaso
Description: The 12-inch 4-band (RGBIR) natural color and color infrared orthoimagery were acquired in 2015 during leaf-off conditions. The dataset covers the El Paso city-wide area. Area covered in total is approximately 656 square miles.
Single Fused Map Cache: false
Extent:
XMin: -1.1872731386599999E7
YMin: 3696446.202499999
XMax: -1.1812200086599998E7
YMax: 3766962.102499999
Spatial Reference: 102100
(3857)
LatestVCSWkid(0)
Initial Extent:
XMin: -1.1872731386599999E7
YMin: 3696446.202499999
XMax: -1.1812200086599998E7
YMax: 3766962.102499999
Spatial Reference: 102100
(3857)
LatestVCSWkid(0)
Full Extent:
XMin: -1.1872731386599999E7
YMin: 3696446.202499999
XMax: -1.1812200086599998E7
YMax: 3766962.102499999
Spatial Reference: 102100
(3857)
LatestVCSWkid(0)
Pixel Size X: 0.3000000000000037
Pixel Size Y: 0.2999999999999996
Band Count: 4
Pixel Type: U8
RasterFunction Infos: {"rasterFunctionInfos": [{
"name": "None",
"description": "",
"help": ""
}]}
Mensuration Capabilities: None
Inspection Capabilities:
Has Histograms: true
Has Colormap: false
Has Multi Dimensions : false
Rendering Rule:
Min Scale: 0
Max Scale: 0
Resampling: false
Copyright Text: Texas Geographic Information Office, NGA, USGS
Service Data Type: esriImageServiceDataTypeGeneric
Min Values: 15, 14, 14, 6
Max Values: 250, 251, 251, 239
Mean Values: 139.75840953624848, 130.56700351819546, 110.50949691229864, 137.24551689329712
Standard Deviation Values: 29.179589048909918, 25.50659163024882, 25.090160698645278, 21.666863737078984
Object ID Field: objectid
Fields:
-
objectid
(
type: esriFieldTypeOID, alias: OBJECTID
)
-
name
(
type: esriFieldTypeString, alias: Name, length: 200
)
-
minps
(
type: esriFieldTypeDouble, alias: MinPS
)
-
maxps
(
type: esriFieldTypeDouble, alias: MaxPS
)
-
lowps
(
type: esriFieldTypeDouble, alias: LowPS
)
-
highps
(
type: esriFieldTypeDouble, alias: HighPS
)
-
category
(
type: esriFieldTypeInteger, alias: Category
, Coded Values:
[0: Unknown]
, [1: Primary]
, [2: Overview]
, ...6 more...
)
-
tag
(
type: esriFieldTypeString, alias: Tag, length: 100
)
-
groupname
(
type: esriFieldTypeString, alias: GroupName, length: 100
)
-
productname
(
type: esriFieldTypeString, alias: ProductName, length: 100
)
-
centerx
(
type: esriFieldTypeDouble, alias: CenterX
)
-
centery
(
type: esriFieldTypeDouble, alias: CenterY
)
-
zorder
(
type: esriFieldTypeInteger, alias: ZOrder
)
-
shape
(
type: esriFieldTypeGeometry, alias: Shape
)
Default Mosaic Method: Northwest
Allowed Mosaic Methods: NorthWest,Center,LockRaster,ByAttribute,Nadir,Viewpoint,Seamline,None
SortField:
SortValue: null
Mosaic Operator: First
Default Compression Quality: 75
Default Resampling Method: Bilinear
Max Record Count: 1000
Max Image Height: 4100
Max Image Width: 15000
Max Download Image Count: 20
Max Mosaic Image Count: 20
Allow Raster Function: true
Allow Copy: true
Allow Analysis: true
Allow Compute TiePoints: false
Supports Statistics: true
Supports Advanced Queries: true
Use StandardizedQueries: true
Raster Type Infos:
Name: Raster Dataset
Description: Supports all ArcGIS Raster Datasets
Help:
Has Raster Attribute Table: false
Edit Fields Info: null
Ownership Based AccessControl For Rasters: null
Child Resources:
Info
Histograms
Statistics
Key Properties
Legend
Raster Function Infos
Supported Operations:
Export Image
Query
Identify
Compute Histograms
Compute Statistics Histograms
Get Samples
Compute Class Statistics
Query GPS Info
Find Images
Image to Map
Map to Image
Measure from Image
Image to Map Multiray
Query Boundary
Compute Pixel Location
Compute Angles
Validate
Project