View In:
ArcGIS JavaScript
ArcGIS Online Map Viewer
ArcGIS Earth
Service Description: The 12-inch 4-band (RGBIR) natural color and color infrared orthoimagery were acquired in 2015 during leaf-off conditions. The dataset covers the Dallas-Fort Worth city-wide areas. Area covered in total is approximately 2,772 square miles.
Name: StratMap/StratMap15_NCCIR_12in_NGA_Dallas_FtWorth
Description: The 12-inch 4-band (RGBIR) natural color and color infrared orthoimagery were acquired in 2015 during leaf-off conditions. The dataset covers the Dallas-Fort Worth city-wide areas. Area covered in total is approximately 2,772 square miles.
Single Fused Map Cache: false
Extent:
XMin: -1.08693583548E7
YMin: 3811749.537500003
XMax: -1.07266138548E7
YMax: 3930326.637500003
Spatial Reference: 102100
(3857)
LatestVCSWkid(0)
Initial Extent:
XMin: -1.08693583548E7
YMin: 3811749.537500003
XMax: -1.07266138548E7
YMax: 3930326.637500003
Spatial Reference: 102100
(3857)
LatestVCSWkid(0)
Full Extent:
XMin: -1.08693583548E7
YMin: 3811749.537500003
XMax: -1.07266138548E7
YMax: 3930326.637500003
Spatial Reference: 102100
(3857)
LatestVCSWkid(0)
Pixel Size X: 0.3
Pixel Size Y: 0.3000000000000002
Band Count: 4
Pixel Type: U8
RasterFunction Infos: {"rasterFunctionInfos": [{
"name": "None",
"description": "",
"help": ""
}]}
Mensuration Capabilities: None
Inspection Capabilities:
Has Histograms: true
Has Colormap: false
Has Multi Dimensions : false
Rendering Rule:
Min Scale: 0
Max Scale: 0
Resampling: false
Copyright Text: Texas Geographic Information Office, NGA, USGS
Service Data Type: esriImageServiceDataTypeGeneric
Min Values: 21, 24, 26, 5
Max Values: 249, 249, 245, 236
Mean Values: 109.17601639424028, 107.51726387769924, 90.46499552114224, 120.44285536624757
Standard Deviation Values: 32.4947250451224, 28.43258506034326, 29.45849336824769, 31.12077837618369
Object ID Field: objectid
Fields:
-
objectid
(
type: esriFieldTypeOID, alias: OBJECTID
)
-
name
(
type: esriFieldTypeString, alias: Name, length: 200
)
-
minps
(
type: esriFieldTypeDouble, alias: MinPS
)
-
maxps
(
type: esriFieldTypeDouble, alias: MaxPS
)
-
lowps
(
type: esriFieldTypeDouble, alias: LowPS
)
-
highps
(
type: esriFieldTypeDouble, alias: HighPS
)
-
category
(
type: esriFieldTypeInteger, alias: Category
, Coded Values:
[0: Unknown]
, [1: Primary]
, [2: Overview]
, ...6 more...
)
-
tag
(
type: esriFieldTypeString, alias: Tag, length: 100
)
-
groupname
(
type: esriFieldTypeString, alias: GroupName, length: 100
)
-
productname
(
type: esriFieldTypeString, alias: ProductName, length: 100
)
-
centerx
(
type: esriFieldTypeDouble, alias: CenterX
)
-
centery
(
type: esriFieldTypeDouble, alias: CenterY
)
-
zorder
(
type: esriFieldTypeInteger, alias: ZOrder
)
-
shape
(
type: esriFieldTypeGeometry, alias: Shape
)
Default Mosaic Method: Northwest
Allowed Mosaic Methods: NorthWest,Center,LockRaster,ByAttribute,Nadir,Viewpoint,Seamline,None
SortField:
SortValue: null
Mosaic Operator: First
Default Compression Quality: 75
Default Resampling Method: Bilinear
Max Record Count: 1000
Max Image Height: 4100
Max Image Width: 15000
Max Download Image Count: 20
Max Mosaic Image Count: 20
Allow Raster Function: true
Allow Copy: true
Allow Analysis: true
Allow Compute TiePoints: false
Supports Statistics: true
Supports Advanced Queries: true
Use StandardizedQueries: true
Raster Type Infos:
Name: Raster Dataset
Description: Supports all ArcGIS Raster Datasets
Help:
Has Raster Attribute Table: false
Edit Fields Info: null
Ownership Based AccessControl For Rasters: null
Child Resources:
Info
Histograms
Statistics
Key Properties
Legend
Raster Function Infos
Supported Operations:
Export Image
Query
Identify
Compute Histograms
Compute Statistics Histograms
Get Samples
Compute Class Statistics
Query GPS Info
Find Images
Image to Map
Map to Image
Measure from Image
Image to Map Multiray
Query Boundary
Compute Pixel Location
Compute Angles
Validate
Project