View In:
ArcGIS JavaScript
ArcGIS Online Map Viewer
ArcGIS Earth
Service Description: This orthoimagery dataset was acquired by Surdex Corporation in early January 2014 during leaf-off conditions in Smith County. Aerial orthoimagery flown during leaf-off conditions allows the data user to 1) identify manmade features through the deciduous tree canopy and 2) distinguish between evergreen and deciduous vegetation. The entire dataset is available at 6-inch pixel resolution. This pixel resolution allows the user to identify detailed features on the ground such as road centerlines, manholes and culverts.
Name: StratMap/StratMap14_NCCIR_6in_Smith
Description: This orthoimagery dataset was acquired by Surdex Corporation in early January 2014 during leaf-off conditions in Smith County. Aerial orthoimagery flown during leaf-off conditions allows the data user to 1) identify manmade features through the deciduous tree canopy and 2) distinguish between evergreen and deciduous vegetation. The entire dataset is available at 6-inch pixel resolution. This pixel resolution allows the user to identify detailed features on the ground such as road centerlines, manholes and culverts.
Single Fused Map Cache: false
Extent:
XMin: -1.06433558097E7
YMin: 3769303.4219897036
XMax: -1.05682137749829E7
YMax: 3856126.0253000036
Spatial Reference: 102100
(3857)
LatestVCSWkid(0)
Initial Extent:
XMin: -1.06433558097E7
YMin: 3769303.4219897036
XMax: -1.05682137749829E7
YMax: 3856126.0253000036
Spatial Reference: 102100
(3857)
LatestVCSWkid(0)
Full Extent:
XMin: -1.06433558097E7
YMin: 3769303.4219897036
XMax: -1.05682137749829E7
YMax: 3856126.0253000036
Spatial Reference: 102100
(3857)
LatestVCSWkid(0)
Pixel Size X: 0.15240029999999946
Pixel Size Y: 0.15240030000000007
Band Count: 4
Pixel Type: U8
RasterFunction Infos: {"rasterFunctionInfos": [{
"name": "None",
"description": "",
"help": ""
}]}
Mensuration Capabilities: None
Inspection Capabilities:
Has Histograms: true
Has Colormap: false
Has Multi Dimensions : false
Rendering Rule:
Min Scale: 0
Max Scale: 0
Resampling: false
Copyright Text: Texas Geographic Information Office, City of Tyler, Smith County, Smith County 9-1-1, Smith County Appraisal District
Service Data Type: esriImageServiceDataTypeGeneric
Min Values: 17, 14, 16, 3
Max Values: 251, 251, 254, 253
Mean Values: 102.48374646940422, 98.09755372008657, 86.40039880451462, 124.4068751171709
Standard Deviation Values: 37.938773945998676, 35.08509220212054, 31.129518090324765, 36.24706457539919
Object ID Field: objectid
Fields:
-
objectid
(
type: esriFieldTypeOID, alias: OBJECTID
)
-
name
(
type: esriFieldTypeString, alias: Name, length: 200
)
-
minps
(
type: esriFieldTypeDouble, alias: MinPS
)
-
maxps
(
type: esriFieldTypeDouble, alias: MaxPS
)
-
lowps
(
type: esriFieldTypeDouble, alias: LowPS
)
-
highps
(
type: esriFieldTypeDouble, alias: HighPS
)
-
category
(
type: esriFieldTypeInteger, alias: Category
, Coded Values:
[0: Unknown]
, [1: Primary]
, [2: Overview]
, ...6 more...
)
-
tag
(
type: esriFieldTypeString, alias: Tag, length: 100
)
-
groupname
(
type: esriFieldTypeString, alias: GroupName, length: 100
)
-
productname
(
type: esriFieldTypeString, alias: ProductName, length: 100
)
-
centerx
(
type: esriFieldTypeDouble, alias: CenterX
)
-
centery
(
type: esriFieldTypeDouble, alias: CenterY
)
-
zorder
(
type: esriFieldTypeInteger, alias: ZOrder
)
-
shape
(
type: esriFieldTypeGeometry, alias: Shape
)
Default Mosaic Method: Northwest
Allowed Mosaic Methods: NorthWest,Center,LockRaster,ByAttribute,Nadir,Viewpoint,Seamline,None
SortField:
SortValue: null
Mosaic Operator: First
Default Compression Quality: 75
Default Resampling Method: Bilinear
Max Record Count: 1000
Max Image Height: 4100
Max Image Width: 15000
Max Download Image Count: 20
Max Mosaic Image Count: 20
Allow Raster Function: true
Allow Copy: true
Allow Analysis: true
Allow Compute TiePoints: false
Supports Statistics: true
Supports Advanced Queries: true
Use StandardizedQueries: true
Raster Type Infos:
Name: Raster Dataset
Description: Supports all ArcGIS Raster Datasets
Help:
Has Raster Attribute Table: false
Edit Fields Info: null
Ownership Based AccessControl For Rasters: null
Child Resources:
Info
Histograms
Statistics
Key Properties
Legend
Raster Function Infos
Supported Operations:
Export Image
Query
Identify
Compute Histograms
Compute Statistics Histograms
Get Samples
Compute Class Statistics
Query GPS Info
Find Images
Image to Map
Map to Image
Measure from Image
Image to Map Multiray
Query Boundary
Compute Pixel Location
Compute Angles
Validate
Project