View In:
ArcGIS JavaScript
ArcGIS Online Map Viewer
ArcGIS Earth
Service Description: This orthoimagery dataset was acquired by Surdex Corporation in January 2013 during leaf-off conditions in Hidalgo, Jim Hogg, Starr, Willacy and Zapata Counties and portions of Cameron County. Aerial orthoimagery flown during leaf-off conditions allows the data user to 1) identify manmade features through the deciduous tree canopy and 2) distinguish between evergreen and deciduous vegetation. The Brownsville, Edinburg, McAllen, Pharr, Port Isabel and Weslaco city limts are available at 6-inch pixel resolution. The remaining areas in this dataset have coarser 9-inch or 12-inch pixel resolution.
Name: StratMap/StratMap13_NC_South_Texas
Description: This orthoimagery dataset was acquired by Surdex Corporation in January 2013 during leaf-off conditions in Hidalgo, Jim Hogg, Starr, Willacy and Zapata Counties and portions of Cameron County. Aerial orthoimagery flown during leaf-off conditions allows the data user to 1) identify manmade features through the deciduous tree canopy and 2) distinguish between evergreen and deciduous vegetation. The Brownsville, Edinburg, McAllen, Pharr, Port Isabel and Weslaco city limts are available at 6-inch pixel resolution. The remaining areas in this dataset have coarser 9-inch or 12-inch pixel resolution.
Single Fused Map Cache: false
Extent:
XMin: -1.10729300401E7
YMin: 2977683.5491760992
XMax: -1.08135220218553E7
YMax: 3168551.666099999
Spatial Reference: 102100
(3857)
LatestVCSWkid(0)
Initial Extent:
XMin: -1.10729300401E7
YMin: 2977683.5491760992
XMax: -1.08135220218553E7
YMax: 3168551.666099999
Spatial Reference: 102100
(3857)
LatestVCSWkid(0)
Full Extent:
XMin: -1.10729300401E7
YMin: 2977683.5491760992
XMax: -1.08135220218553E7
YMax: 3168551.666099999
Spatial Reference: 102100
(3857)
LatestVCSWkid(0)
Pixel Size X: 0.1524003000000003
Pixel Size Y: 0.15240029999999988
Band Count: 3
Pixel Type: U8
RasterFunction Infos: {"rasterFunctionInfos": [{
"name": "None",
"description": "",
"help": ""
}]}
Mensuration Capabilities: None
Inspection Capabilities:
Has Histograms: true
Has Colormap: false
Has Multi Dimensions : false
Rendering Rule:
Min Scale: 0
Max Scale: 0
Resampling: false
Copyright Text: Texas Geographic Information Office, Brownsville Public Utility Board, City of Laredo, City of McAllen, City of Pharr, City of Port Isabel, City of Weslaco, Hidalgo County Drainage Distrtict #1, Hidalgo County Metropolitan Planning Organization, Hidalgo County Regional Mobility Authority, Laguna Madre Water District, Lower Rio Grande Valley Development Council, United States Geological Survey
Service Data Type: esriImageServiceDataTypeRGB
Min Values: 0, 0, 0
Max Values: 236, 235, 238
Mean Values: 126.5869432753092, 114.21418740721745, 97.79025203915747
Standard Deviation Values: 27.436289803100752, 23.521584149750996, 20.450258911040056
Object ID Field: objectid
Fields:
-
objectid
(
type: esriFieldTypeOID, alias: OBJECTID
)
-
name
(
type: esriFieldTypeString, alias: Name, length: 200
)
-
minps
(
type: esriFieldTypeDouble, alias: MinPS
)
-
maxps
(
type: esriFieldTypeDouble, alias: MaxPS
)
-
lowps
(
type: esriFieldTypeDouble, alias: LowPS
)
-
highps
(
type: esriFieldTypeDouble, alias: HighPS
)
-
category
(
type: esriFieldTypeInteger, alias: Category
, Coded Values:
[0: Unknown]
, [1: Primary]
, [2: Overview]
, ...6 more...
)
-
tag
(
type: esriFieldTypeString, alias: Tag, length: 100
)
-
groupname
(
type: esriFieldTypeString, alias: GroupName, length: 100
)
-
productname
(
type: esriFieldTypeString, alias: ProductName, length: 100
)
-
centerx
(
type: esriFieldTypeDouble, alias: CenterX
)
-
centery
(
type: esriFieldTypeDouble, alias: CenterY
)
-
zorder
(
type: esriFieldTypeInteger, alias: ZOrder
)
-
shape
(
type: esriFieldTypeGeometry, alias: Shape
)
Default Mosaic Method: Northwest
Allowed Mosaic Methods: NorthWest,Center,LockRaster,ByAttribute,Nadir,Viewpoint,Seamline,None
SortField:
SortValue: null
Mosaic Operator: First
Default Compression Quality: 75
Default Resampling Method: Bilinear
Max Record Count: 1000
Max Image Height: 4100
Max Image Width: 15000
Max Download Image Count: 20
Max Mosaic Image Count: 20
Allow Raster Function: true
Allow Copy: true
Allow Analysis: true
Allow Compute TiePoints: false
Supports Statistics: true
Supports Advanced Queries: true
Use StandardizedQueries: true
Raster Type Infos:
Name: Raster Dataset
Description: Supports all ArcGIS Raster Datasets
Help:
Has Raster Attribute Table: false
Edit Fields Info: null
Ownership Based AccessControl For Rasters: null
Child Resources:
Info
Histograms
Statistics
Key Properties
Legend
Raster Function Infos
Supported Operations:
Export Image
Query
Identify
Compute Histograms
Compute Statistics Histograms
Get Samples
Compute Class Statistics
Query GPS Info
Find Images
Image to Map
Map to Image
Measure from Image
Image to Map Multiray
Query Boundary
Compute Pixel Location
Compute Angles
Validate
Project