View In:
ArcGIS JavaScript
ArcGIS Online Map Viewer
ArcGIS Earth
Service Description: This orthoimagery dataset was acquired by Kucera International in January 2011 during leaf-off conditions in Brazos County and a portion of Grimes County. Aerial orthoimagery flown during leaf-off conditions allows the data user to 1) identify man-made features through the deciduous tree canopy and 2) distinguish between evergreen and deciduous vegetation. The Bryan and College Station city limits as well as a portion of western Grimes County are available at 6-inch pixel resolution. The remaining areas in Brazos County have a coarser 12-inch pixel resolution. Both pixel resolutions allow the user to identify detailed features on the ground such as road turning lanes, fences, and park benches.
Name: StratMap/StratMap11_NCCIR_Brazos
Description: This orthoimagery dataset was acquired by Kucera International in January 2011 during leaf-off conditions in Brazos County and a portion of Grimes County. Aerial orthoimagery flown during leaf-off conditions allows the data user to 1) identify man-made features through the deciduous tree canopy and 2) distinguish between evergreen and deciduous vegetation. The Bryan and College Station city limits as well as a portion of western Grimes County are available at 6-inch pixel resolution. The remaining areas in Brazos County have a coarser 12-inch pixel resolution. Both pixel resolutions allow the user to identify detailed features on the ground such as road turning lanes, fences, and park benches.
Single Fused Map Cache: false
Extent:
XMin: -1.07546842807E7
YMin: 3545622.183238301
XMax: -1.06864831652461E7
YMax: 3630896.094700001
Spatial Reference: 102100
(3857)
LatestVCSWkid(0)
Initial Extent:
XMin: -1.07546842807E7
YMin: 3545622.183238301
XMax: -1.06864831652461E7
YMax: 3630896.094700001
Spatial Reference: 102100
(3857)
LatestVCSWkid(0)
Full Extent:
XMin: -1.07546842807E7
YMin: 3545622.183238301
XMax: -1.06864831652461E7
YMax: 3630896.094700001
Spatial Reference: 102100
(3857)
LatestVCSWkid(0)
Pixel Size X: 0.1524003000000017
Pixel Size Y: 0.1524003000000004
Band Count: 4
Pixel Type: U8
RasterFunction Infos: {"rasterFunctionInfos": [{
"name": "None",
"description": "",
"help": ""
}]}
Mensuration Capabilities: None
Inspection Capabilities:
Has Histograms: true
Has Colormap: false
Has Multi Dimensions : false
Rendering Rule:
Min Scale: 0
Max Scale: 0
Resampling: false
Copyright Text: Texas Geographic Information Office, Brazos County Appraisal District, Brazos County 9-1-1 District, City of College Station, City of Bryan, Texas Municipal Power Agency, Texas Water Development Board
Service Data Type: esriImageServiceDataTypeGeneric
Min Values: 1, 1, 1, 0
Max Values: 253, 253, 249, 246
Mean Values: 117.62151251209875, 110.00501972795499, 96.32642908038953, 126.24074487658183
Standard Deviation Values: 39.405082966792065, 33.70664762605397, 29.479074871172337, 26.079580643709267
Object ID Field: objectid
Fields:
-
objectid
(
type: esriFieldTypeOID, alias: OBJECTID
)
-
name
(
type: esriFieldTypeString, alias: Name, length: 200
)
-
minps
(
type: esriFieldTypeDouble, alias: MinPS
)
-
maxps
(
type: esriFieldTypeDouble, alias: MaxPS
)
-
lowps
(
type: esriFieldTypeDouble, alias: LowPS
)
-
highps
(
type: esriFieldTypeDouble, alias: HighPS
)
-
category
(
type: esriFieldTypeInteger, alias: Category
, Coded Values:
[0: Unknown]
, [1: Primary]
, [2: Overview]
, ...6 more...
)
-
tag
(
type: esriFieldTypeString, alias: Tag, length: 100
)
-
groupname
(
type: esriFieldTypeString, alias: GroupName, length: 100
)
-
productname
(
type: esriFieldTypeString, alias: ProductName, length: 100
)
-
centerx
(
type: esriFieldTypeDouble, alias: CenterX
)
-
centery
(
type: esriFieldTypeDouble, alias: CenterY
)
-
zorder
(
type: esriFieldTypeInteger, alias: ZOrder
)
-
shape
(
type: esriFieldTypeGeometry, alias: Shape
)
Default Mosaic Method: Northwest
Allowed Mosaic Methods: NorthWest,Center,LockRaster,ByAttribute,Nadir,Viewpoint,Seamline,None
SortField:
SortValue: null
Mosaic Operator: First
Default Compression Quality: 75
Default Resampling Method: Bilinear
Max Record Count: 1000
Max Image Height: 4100
Max Image Width: 15000
Max Download Image Count: 20
Max Mosaic Image Count: 20
Allow Raster Function: true
Allow Copy: true
Allow Analysis: true
Allow Compute TiePoints: false
Supports Statistics: true
Supports Advanced Queries: true
Use StandardizedQueries: true
Raster Type Infos:
Name: Raster Dataset
Description: Supports all ArcGIS Raster Datasets
Help:
Has Raster Attribute Table: false
Edit Fields Info: null
Ownership Based AccessControl For Rasters: null
Child Resources:
Info
Histograms
Statistics
Key Properties
Legend
Raster Function Infos
Supported Operations:
Export Image
Query
Identify
Compute Histograms
Compute Statistics Histograms
Get Samples
Compute Class Statistics
Query GPS Info
Find Images
Image to Map
Map to Image
Measure from Image
Image to Map Multiray
Query Boundary
Compute Pixel Location
Compute Angles
Validate
Project