View In:
ArcGIS JavaScript
ArcGIS Online Map Viewer
ArcGIS Earth
Service Description: This orthoimagery dataset was acquired by PBS&J (now Atkins) between January and February 2010 during leaf-off conditions in Bexar, Comal and Guadalupe counties. Aerial orthoimagery flown during leaf-off conditions allows the data user to 1) identify man-made features through the deciduous tree canopy and 2) distinguish between evergreen and deciduous vegetation. The entire dataset is available at 6-inch pixel resolution.
Name: StratMap/StratMap10_NCCIR_6in_Bexar
Description: This orthoimagery dataset was acquired by PBS&J (now Atkins) between January and February 2010 during leaf-off conditions in Bexar, Comal and Guadalupe counties. Aerial orthoimagery flown during leaf-off conditions allows the data user to 1) identify man-made features through the deciduous tree canopy and 2) distinguish between evergreen and deciduous vegetation. The entire dataset is available at 6-inch pixel resolution.
Single Fused Map Cache: false
Extent:
XMin: -1.10071323878E7
YMin: 3383549.3872901024
XMax: -1.08669975687446E7
YMax: 3515837.8769000024
Spatial Reference: 102100
(3857)
LatestVCSWkid(0)
Initial Extent:
XMin: -1.10071323878E7
YMin: 3383549.3872901024
XMax: -1.08669975687446E7
YMax: 3515837.8769000024
Spatial Reference: 102100
(3857)
LatestVCSWkid(0)
Full Extent:
XMin: -1.10071323878E7
YMin: 3383549.3872901024
XMax: -1.08669975687446E7
YMax: 3515837.8769000024
Spatial Reference: 102100
(3857)
LatestVCSWkid(0)
Pixel Size X: 0.15240030000000085
Pixel Size Y: 0.15240029999999993
Band Count: 4
Pixel Type: U8
RasterFunction Infos: {"rasterFunctionInfos": [{
"name": "None",
"description": "",
"help": ""
}]}
Mensuration Capabilities:
Inspection Capabilities:
Has Histograms: true
Has Colormap: false
Has Multi Dimensions : false
Rendering Rule:
Min Scale: 0
Max Scale: 0
Resampling: false
Copyright Text: Texas Geographic Information Office, Bexar Metro 9-1-1, Texas Water Development Board
Service Data Type: esriImageServiceDataTypeGeneric
Min Values: 11, 16, 26, 26
Max Values: 255, 255, 255, 255
Mean Values: 130.26763418316818, 132.9631357457697, 124.16532793605509, 124.16532793605509
Standard Deviation Values: 53.431114899129966, 50.40423277843153, 52.903081752152524, 52.903081752152524
Object ID Field: objectid
Fields:
-
objectid
(
type: esriFieldTypeOID, alias: OBJECTID
)
-
name
(
type: esriFieldTypeString, alias: Name, length: 200
)
-
minps
(
type: esriFieldTypeDouble, alias: MinPS
)
-
maxps
(
type: esriFieldTypeDouble, alias: MaxPS
)
-
lowps
(
type: esriFieldTypeDouble, alias: LowPS
)
-
highps
(
type: esriFieldTypeDouble, alias: HighPS
)
-
category
(
type: esriFieldTypeInteger, alias: Category
, Coded Values:
[0: Unknown]
, [1: Primary]
, [2: Overview]
, ...6 more...
)
-
tag
(
type: esriFieldTypeString, alias: Tag, length: 100
)
-
groupname
(
type: esriFieldTypeString, alias: GroupName, length: 100
)
-
productname
(
type: esriFieldTypeString, alias: ProductName, length: 100
)
-
centerx
(
type: esriFieldTypeDouble, alias: CenterX
)
-
centery
(
type: esriFieldTypeDouble, alias: CenterY
)
-
zorder
(
type: esriFieldTypeInteger, alias: ZOrder
)
-
shape
(
type: esriFieldTypeGeometry, alias: Shape
)
Default Mosaic Method: Northwest
Allowed Mosaic Methods: NorthWest,Center,LockRaster,ByAttribute,Nadir,Viewpoint,Seamline,None
SortField:
SortValue: null
Mosaic Operator: First
Default Compression Quality: 75
Default Resampling Method: Bilinear
Max Record Count: 1000
Max Image Height: 4100
Max Image Width: 15000
Max Download Image Count: 20
Max Mosaic Image Count: 20
Allow Raster Function: true
Allow Copy: true
Allow Analysis: true
Allow Compute TiePoints: false
Supports Statistics: true
Supports Advanced Queries: true
Use StandardizedQueries: true
Raster Type Infos:
Name: Raster Dataset
Description: Supports all ArcGIS Raster Datasets
Help:
Has Raster Attribute Table: false
Edit Fields Info: null
Ownership Based AccessControl For Rasters: null
Child Resources:
Info
Histograms
Statistics
Key Properties
Legend
Raster Function Infos
Supported Operations:
Export Image
Query
Identify
Measure
Compute Histograms
Compute Statistics Histograms
Get Samples
Compute Class Statistics
Query GPS Info
Find Images
Image to Map
Map to Image
Measure from Image
Image to Map Multiray
Query Boundary
Compute Pixel Location
Compute Angles
Validate
Project