View In:
ArcGIS JavaScript
ArcGIS Online Map Viewer
ArcGIS Earth
Service Description: This orthoimagery dataset was acquired by Kucera International in May 2009. The entire dataset is available at 6-inch pixel resolution. This pixel resolution allows the user to identify detailed features on the ground such as road centerlines, manholes, and culverts. The entire dataset is available as a 3-band (IRRG) product which allows the user to display the imagery in color infrared (IRRG) only.
Name: StratMap/StratMap09_CIR_6in_Galveston
Description: This orthoimagery dataset was acquired by Kucera International in May 2009. The entire dataset is available at 6-inch pixel resolution. This pixel resolution allows the user to identify detailed features on the ground such as road centerlines, manholes, and culverts. The entire dataset is available as a 3-band (IRRG) product which allows the user to display the imagery in color infrared (IRRG) only.
Single Fused Map Cache: false
Extent:
XMin: -1.06381655626E7
YMin: 3351687.596000005
XMax: -1.0498750762600003E7
YMax: 3455548.9460000023
Spatial Reference: 102100
(3857)
LatestVCSWkid(0)
Initial Extent:
XMin: -1.06381655626E7
YMin: 3351687.596000005
XMax: -1.0498750762600003E7
YMax: 3455548.9460000023
Spatial Reference: 102100
(3857)
LatestVCSWkid(0)
Full Extent:
XMin: -1.06381655626E7
YMin: 3351687.596000005
XMax: -1.0498750762600003E7
YMax: 3455548.9460000023
Spatial Reference: 102100
(3857)
LatestVCSWkid(0)
Pixel Size X: 0.1499999999999968
Pixel Size Y: 0.1499999999999961
Band Count: 3
Pixel Type: U8
RasterFunction Infos: {"rasterFunctionInfos": [{
"name": "None",
"description": "",
"help": ""
}]}
Mensuration Capabilities:
Inspection Capabilities:
Has Histograms: true
Has Colormap: false
Has Multi Dimensions : false
Rendering Rule:
Min Scale: 0
Max Scale: 0
Resampling: false
Copyright Text: Texas Geographic Information Office, Texas Forest Service, Texas General Land Office
Service Data Type: esriImageServiceDataTypeRGB
Min Values: 0, 0, 0
Max Values: 238, 238, 237
Mean Values: 24.363988040070772, 24.539147814733862, 28.8353091931881
Standard Deviation Values: 48.26198558338973, 44.95644447124578, 49.12069386348199
Object ID Field: objectid
Fields:
-
objectid
(
type: esriFieldTypeOID, alias: OBJECTID
)
-
name
(
type: esriFieldTypeString, alias: Name, length: 200
)
-
minps
(
type: esriFieldTypeDouble, alias: MinPS
)
-
maxps
(
type: esriFieldTypeDouble, alias: MaxPS
)
-
lowps
(
type: esriFieldTypeDouble, alias: LowPS
)
-
highps
(
type: esriFieldTypeDouble, alias: HighPS
)
-
category
(
type: esriFieldTypeInteger, alias: Category
, Coded Values:
[0: Unknown]
, [1: Primary]
, [2: Overview]
, ...6 more...
)
-
tag
(
type: esriFieldTypeString, alias: Tag, length: 100
)
-
groupname
(
type: esriFieldTypeString, alias: GroupName, length: 100
)
-
productname
(
type: esriFieldTypeString, alias: ProductName, length: 100
)
-
centerx
(
type: esriFieldTypeDouble, alias: CenterX
)
-
centery
(
type: esriFieldTypeDouble, alias: CenterY
)
-
zorder
(
type: esriFieldTypeInteger, alias: ZOrder
)
-
shape
(
type: esriFieldTypeGeometry, alias: Shape
)
Default Mosaic Method: Northwest
Allowed Mosaic Methods: NorthWest,Center,LockRaster,ByAttribute,Nadir,Viewpoint,Seamline,None
SortField:
SortValue: null
Mosaic Operator: First
Default Compression Quality: 75
Default Resampling Method: Bilinear
Max Record Count: 1000
Max Image Height: 4100
Max Image Width: 15000
Max Download Image Count: 20
Max Mosaic Image Count: 20
Allow Raster Function: true
Allow Copy: true
Allow Analysis: true
Allow Compute TiePoints: false
Supports Statistics: true
Supports Advanced Queries: true
Use StandardizedQueries: true
Raster Type Infos:
Name: Raster Dataset
Description: Supports all ArcGIS Raster Datasets
Help:
Has Raster Attribute Table: false
Edit Fields Info: null
Ownership Based AccessControl For Rasters: null
Child Resources:
Info
Histograms
Statistics
Key Properties
Legend
Raster Function Infos
Supported Operations:
Export Image
Query
Identify
Measure
Compute Histograms
Compute Statistics Histograms
Get Samples
Compute Class Statistics
Query GPS Info
Find Images
Image to Map
Map to Image
Measure from Image
Image to Map Multiray
Query Boundary
Compute Pixel Location
Compute Angles
Validate
Project