View In:
ArcGIS JavaScript
ArcGIS Online Map Viewer
ArcGIS Earth
Service Description: The National Land Cover Database 2019 (NLCD 2019) is a national land cover product created by the Multi-Resolution Land Characteristics (MRLC) Consortium. The data have been clipped for Texas only. NLCD 2019 provides the capability to assess wall-to-wall, spatially explicit, national land cover changes and trends across the United States from 2001 to 2019. As with two previous NLCD land cover products NLCD 2019 keeps the same 16-class land cover classification scheme that has been applied consistently across the United States at a spatial resolution of 30 meters. NLCD 2019 is based primarily on a decision-tree classification of circa 2019 Landsat satellite data.
Name: MRLC/National_Land_Cover_Database_2019
Description: The National Land Cover Database 2019 (NLCD 2019) is a national land cover product created by the Multi-Resolution Land Characteristics (MRLC) Consortium. The data have been clipped for Texas only. NLCD 2019 provides the capability to assess wall-to-wall, spatially explicit, national land cover changes and trends across the United States from 2001 to 2019. As with two previous NLCD land cover products NLCD 2019 keeps the same 16-class land cover classification scheme that has been applied consistently across the United States at a spatial resolution of 30 meters. NLCD 2019 is based primarily on a decision-tree classification of circa 2019 Landsat satellite data.
Single Fused Map Cache: false
Extent:
XMin: -1.20366459603E7
YMin: 2911459.6349000037
XMax: -1.03683459603E7
YMax: 4435249.634900004
Spatial Reference: 102100
(3857)
LatestVCSWkid(0)
Initial Extent:
XMin: -1.20366459603E7
YMin: 2911459.6349000037
XMax: -1.03683459603E7
YMax: 4435249.634900004
Spatial Reference: 102100
(3857)
LatestVCSWkid(0)
Full Extent:
XMin: -1.20366459603E7
YMin: 2911459.6349000037
XMax: -1.03683459603E7
YMax: 4435249.634900004
Spatial Reference: 102100
(3857)
LatestVCSWkid(0)
Pixel Size X: 30.0
Pixel Size Y: 30.0
Band Count: 3
Pixel Type: U8
RasterFunction Infos: {"rasterFunctionInfos": [{
"name": "None",
"description": "",
"help": ""
}]}
Mensuration Capabilities: None
Inspection Capabilities:
Has Histograms: true
Has Colormap: false
Has Multi Dimensions : false
Rendering Rule:
Min Scale: 0
Max Scale: 0
Resampling: false
Copyright Text: Texas Geographic Information Office, USGS, MRLC
Service Data Type: esriImageServiceDataTypeRGB
Min Values: 28, 0, 0
Max Values: 235, 223, 235
Mean Values: 187.78669006175033, 173.81787305392197, 115.49140956260585
Standard Deviation Values: 49.52166239827548, 46.85601853847256, 56.389383469286244
Object ID Field: objectid
Fields:
-
objectid
(
type: esriFieldTypeOID, alias: OBJECTID
)
-
name
(
type: esriFieldTypeString, alias: Name, length: 200
)
-
minps
(
type: esriFieldTypeDouble, alias: MinPS
)
-
maxps
(
type: esriFieldTypeDouble, alias: MaxPS
)
-
lowps
(
type: esriFieldTypeDouble, alias: LowPS
)
-
highps
(
type: esriFieldTypeDouble, alias: HighPS
)
-
category
(
type: esriFieldTypeInteger, alias: Category
, Coded Values:
[0: Unknown]
, [1: Primary]
, [2: Overview]
, ...6 more...
)
-
tag
(
type: esriFieldTypeString, alias: Tag, length: 100
)
-
groupname
(
type: esriFieldTypeString, alias: GroupName, length: 100
)
-
productname
(
type: esriFieldTypeString, alias: ProductName, length: 100
)
-
centerx
(
type: esriFieldTypeDouble, alias: CenterX
)
-
centery
(
type: esriFieldTypeDouble, alias: CenterY
)
-
zorder
(
type: esriFieldTypeInteger, alias: ZOrder
)
-
shape
(
type: esriFieldTypeGeometry, alias: Shape
)
Default Mosaic Method: Northwest
Allowed Mosaic Methods: NorthWest,Center,LockRaster,ByAttribute,Nadir,Viewpoint,Seamline,None
SortField:
SortValue: null
Mosaic Operator: First
Default Compression Quality: 75
Default Resampling Method: Bilinear
Max Record Count: 1000
Max Image Height: 4100
Max Image Width: 15000
Max Download Image Count: 20
Max Mosaic Image Count: 20
Allow Raster Function: true
Allow Copy: true
Allow Analysis: true
Allow Compute TiePoints: false
Supports Statistics: true
Supports Advanced Queries: true
Use StandardizedQueries: true
Raster Type Infos:
Name: Raster Dataset
Description: Supports all ArcGIS Raster Datasets
Help:
Has Raster Attribute Table: false
Edit Fields Info: null
Ownership Based AccessControl For Rasters: null
Child Resources:
Info
Histograms
Statistics
Key Properties
Legend
Raster Function Infos
Supported Operations:
Export Image
Query
Identify
Compute Histograms
Compute Statistics Histograms
Get Samples
Compute Class Statistics
Query GPS Info
Find Images
Image to Map
Map to Image
Measure from Image
Image to Map Multiray
Query Boundary
Compute Pixel Location
Compute Angles
Validate
Project