View In:
ArcGIS JavaScript
ArcGIS Online Map Viewer
ArcGIS Earth
Service Description: NLCD 2001 improves upon NLCD 1992 in three important ways. Whereas NLCD 1992 was simply a land-cover data set, NLCD 2001 is a land-cover database comprised of three elements: land cover, impervious surface and canopy density. Second, NLCD 2001 used improved classification algorithms which have resulted in data with more precise rendering of spatial boundaries between the 16 classes (an additional nine classes are available in coastal areas and another four classes in Alaska only). Third, NLCD 2001 also includes Alaska, Hawaii, and Puerto Rico. NLCD 1992 was restricted to the conterminous United States.
Name: MRLC/National_Land_Cover_Database_2001
Description: NLCD 2001 improves upon NLCD 1992 in three important ways. Whereas NLCD 1992 was simply a land-cover data set, NLCD 2001 is a land-cover database comprised of three elements: land cover, impervious surface and canopy density. Second, NLCD 2001 used improved classification algorithms which have resulted in data with more precise rendering of spatial boundaries between the 16 classes (an additional nine classes are available in coastal areas and another four classes in Alaska only). Third, NLCD 2001 also includes Alaska, Hawaii, and Puerto Rico. NLCD 1992 was restricted to the conterminous United States.
Single Fused Map Cache: false
Extent:
XMin: -1.2036647124E7
YMin: 2911460.545900002
XMax: -1.0368347124E7
YMax: 4435250.545900002
Spatial Reference: 102100
(3857)
LatestVCSWkid(0)
Initial Extent:
XMin: -1.2036647124E7
YMin: 2911460.545900002
XMax: -1.0368347124E7
YMax: 4435250.545900002
Spatial Reference: 102100
(3857)
LatestVCSWkid(0)
Full Extent:
XMin: -1.2036647124E7
YMin: 2911460.545900002
XMax: -1.0368347124E7
YMax: 4435250.545900002
Spatial Reference: 102100
(3857)
LatestVCSWkid(0)
Pixel Size X: 30.0
Pixel Size Y: 30.0
Band Count: 3
Pixel Type: U8
RasterFunction Infos: {"rasterFunctionInfos": [{
"name": "None",
"description": "",
"help": ""
}]}
Mensuration Capabilities:
Inspection Capabilities:
Has Histograms: true
Has Colormap: false
Has Multi Dimensions : false
Rendering Rule:
Min Scale: 0
Max Scale: 0
Resampling: false
Copyright Text: Texas Geographic Information Office, USGS
Service Data Type: esriImageServiceDataTypeRGB
Min Values: 0, 0, 0
Max Values: 238, 227, 235
Mean Values: 134.5237897250724, 132.06782660316395, 91.54718293583703
Standard Deviation Values: 95.39897139481994, 89.14712465127363, 74.143403292994
Object ID Field: objectid
Fields:
-
objectid
(
type: esriFieldTypeOID, alias: OBJECTID
)
-
name
(
type: esriFieldTypeString, alias: Name, length: 200
)
-
minps
(
type: esriFieldTypeDouble, alias: MinPS
)
-
maxps
(
type: esriFieldTypeDouble, alias: MaxPS
)
-
lowps
(
type: esriFieldTypeDouble, alias: LowPS
)
-
highps
(
type: esriFieldTypeDouble, alias: HighPS
)
-
category
(
type: esriFieldTypeInteger, alias: Category
, Coded Values:
[0: Unknown]
, [1: Primary]
, [2: Overview]
, ...6 more...
)
-
tag
(
type: esriFieldTypeString, alias: Tag, length: 100
)
-
groupname
(
type: esriFieldTypeString, alias: GroupName, length: 100
)
-
productname
(
type: esriFieldTypeString, alias: ProductName, length: 100
)
-
centerx
(
type: esriFieldTypeDouble, alias: CenterX
)
-
centery
(
type: esriFieldTypeDouble, alias: CenterY
)
-
zorder
(
type: esriFieldTypeInteger, alias: ZOrder
)
-
shape
(
type: esriFieldTypeGeometry, alias: Shape
)
Default Mosaic Method: Northwest
Allowed Mosaic Methods: NorthWest,Center,LockRaster,ByAttribute,Nadir,Viewpoint,Seamline,None
SortField:
SortValue: null
Mosaic Operator: First
Default Compression Quality: 75
Default Resampling Method: Bilinear
Max Record Count: 1000
Max Image Height: 4100
Max Image Width: 15000
Max Download Image Count: 20
Max Mosaic Image Count: 20
Allow Raster Function: true
Allow Copy: true
Allow Analysis: true
Allow Compute TiePoints: false
Supports Statistics: true
Supports Advanced Queries: true
Use StandardizedQueries: true
Raster Type Infos:
Name: Raster Dataset
Description: Supports all ArcGIS Raster Datasets
Help:
Has Raster Attribute Table: false
Edit Fields Info: null
Ownership Based AccessControl For Rasters: null
Child Resources:
Info
Histograms
Statistics
Key Properties
Legend
Raster Function Infos
Supported Operations:
Export Image
Query
Identify
Measure
Compute Histograms
Compute Statistics Histograms
Get Samples
Compute Class Statistics
Query GPS Info
Find Images
Image to Map
Map to Image
Measure from Image
Image to Map Multiray
Query Boundary
Compute Pixel Location
Compute Angles
Validate
Project