View In:
ArcGIS JavaScript
ArcGIS Online Map Viewer
ArcGIS Earth
Service Description: The Texas-Southwest portion of the NLCD was created as part of a project area encompassing portions of Federal Region VI, including the states of New Mexico, Texas, Oklahoma, Louisiana, and Arkansas. The NLCD classification contains 21 different land cover categories with a spatial resolution of 30 meters. The NLCD was produced as a cooperative effort between the U.S. Geological Survey (USGS) and the U.S. Environmental Protection Agency (US EPA) to produce a consistent, land cover data layer for the conterminous U.S. using early 1990s Landsat thematic mapper (TM) data purchased by the Multi-resolution Land Characterization (MRLC) Consortium. The MRLC Consortium is a partnership of federal agencies that produce or use land cover data. The main objective of this project was to generate a generalized and nationally consistent land cover data layer for the entire conterminous United States. These data can be used as a layer in a geographic information system (GIS) for any number of purposes such assessing wildlife habitat, water quality and pesticide runoff, land use change, etc.
Name: MRLC/National_Land_Cover_Database_1992
Description: The Texas-Southwest portion of the NLCD was created as part of a project area encompassing portions of Federal Region VI, including the states of New Mexico, Texas, Oklahoma, Louisiana, and Arkansas. The NLCD classification contains 21 different land cover categories with a spatial resolution of 30 meters. The NLCD was produced as a cooperative effort between the U.S. Geological Survey (USGS) and the U.S. Environmental Protection Agency (US EPA) to produce a consistent, land cover data layer for the conterminous U.S. using early 1990s Landsat thematic mapper (TM) data purchased by the Multi-resolution Land Characterization (MRLC) Consortium. The MRLC Consortium is a partnership of federal agencies that produce or use land cover data. The main objective of this project was to generate a generalized and nationally consistent land cover data layer for the entire conterminous United States. These data can be used as a layer in a geographic information system (GIS) for any number of purposes such assessing wildlife habitat, water quality and pesticide runoff, land use change, etc.
Single Fused Map Cache: false
Extent:
XMin: -1.18736551895E7
YMin: 2971970.835199997
XMax: -1.04038651895E7
YMax: 4398740.835199997
Spatial Reference: 102100
(3857)
Initial Extent:
XMin: -1.18736551895E7
YMin: 2971970.835199997
XMax: -1.04038651895E7
YMax: 4398740.835199997
Spatial Reference: 102100
(3857)
Full Extent:
XMin: -1.18736551895E7
YMin: 2971970.835199997
XMax: -1.04038651895E7
YMax: 4398740.835199997
Spatial Reference: 102100
(3857)
Pixel Size X: 30.0
Pixel Size Y: 30.0
Band Count: 3
Pixel Type: U8
RasterFunction Infos: {"rasterFunctionInfos": [{
"name": "None",
"description": "",
"help": ""
}]}
Mensuration Capabilities:
Inspection Capabilities:
Has Histograms: true
Has Colormap: false
Has Multi Dimensions : false
Rendering Rule:
Min Scale: 0
Max Scale: 0
Resampling: false
Copyright Text: Texas Geographic Information Office, USGS
Service Data Type: esriImageServiceDataTypeRGB
Min Values: 0, 0, 0
Max Values: 253, 246, 248
Mean Values: 116.90511558593347, 112.25954366719013, 74.5455356024775
Standard Deviation Values: 110.05471340462168, 102.67759939036907, 71.85825087317444
Object ID Field: objectid
Fields:
-
objectid
(
type: esriFieldTypeOID, alias: OBJECTID
)
-
name
(
type: esriFieldTypeString, alias: Name, length: 200
)
-
minps
(
type: esriFieldTypeDouble, alias: MinPS
)
-
maxps
(
type: esriFieldTypeDouble, alias: MaxPS
)
-
lowps
(
type: esriFieldTypeDouble, alias: LowPS
)
-
highps
(
type: esriFieldTypeDouble, alias: HighPS
)
-
category
(
type: esriFieldTypeInteger, alias: Category
, Coded Values:
[0: Unknown]
, [1: Primary]
, [2: Overview]
, ...6 more...
)
-
tag
(
type: esriFieldTypeString, alias: Tag, length: 100
)
-
groupname
(
type: esriFieldTypeString, alias: GroupName, length: 100
)
-
productname
(
type: esriFieldTypeString, alias: ProductName, length: 100
)
-
centerx
(
type: esriFieldTypeDouble, alias: CenterX
)
-
centery
(
type: esriFieldTypeDouble, alias: CenterY
)
-
zorder
(
type: esriFieldTypeInteger, alias: ZOrder
)
-
shape
(
type: esriFieldTypeGeometry, alias: Shape
)
Default Mosaic Method: Northwest
Allowed Mosaic Methods: NorthWest,Center,LockRaster,ByAttribute,Nadir,Viewpoint,Seamline,None
SortField:
SortValue: null
Mosaic Operator: First
Default Compression Quality: 75
Default Resampling Method: Bilinear
Max Record Count: 1000
Max Image Height: 4100
Max Image Width: 15000
Max Download Image Count: 20
Max Mosaic Image Count: 20
Allow Raster Function: true
Allow Copy: true
Allow Analysis: true
Allow Compute TiePoints: false
Supports Statistics: true
Supports Advanced Queries: true
Use StandardizedQueries: true
Raster Type Infos:
Name: Raster Dataset
Description: Supports all ArcGIS Raster Datasets
Help:
Has Raster Attribute Table: false
Edit Fields Info: null
Ownership Based AccessControl For Rasters: null
Child Resources:
Info
Histograms
Statistics
Key Properties
Legend
Raster Function Infos
Supported Operations:
Export Image
Query
Identify
Measure
Compute Histograms
Compute Statistics Histograms
Get Samples
Compute Class Statistics
Query GPS Info
Find Images
Image to Map
Map to Image
Measure from Image
Image to Map Multiray
Query Boundary
Compute Pixel Location
Compute Angles
Validate
Project