View In:
ArcGIS JavaScript
ArcGIS Online Map Viewer
ArcGIS Earth
Service Description: Black and White Imagery from USGS for Galveston County 1969
Name: Historic_Imagery/Galveston_USGS_1969
Description: Black and White Imagery from USGS for Galveston County 1969
Single Fused Map Cache: false
Extent:
XMin: 280462.1241729019
YMin: 3230415.547222711
XMax: 356541.1241729019
YMax: 3270769.547222711
Spatial Reference: 26915
(26915)
LatestVCSWkid(0)
Initial Extent:
XMin: 280462.1241729019
YMin: 3230415.547222711
XMax: 356541.1241729019
YMax: 3270769.547222711
Spatial Reference: 26915
(26915)
LatestVCSWkid(0)
Full Extent:
XMin: 280462.1241729019
YMin: 3230415.547222711
XMax: 356541.1241729019
YMax: 3270769.547222711
Spatial Reference: 26915
(26915)
LatestVCSWkid(0)
Pixel Size X: 1.0
Pixel Size Y: 1.0
Band Count: 1
Pixel Type: U8
RasterFunction Infos: {"rasterFunctionInfos": [{
"name": "None",
"description": "",
"help": ""
}]}
Mensuration Capabilities: Basic
Inspection Capabilities:
Has Histograms: true
Has Colormap: false
Has Multi Dimensions : false
Rendering Rule:
Min Scale: 0
Max Scale: 0
Resampling: false
Copyright Text: Texas Geographic Information Office, USGS
Service Data Type: esriImageServiceDataTypeGeneric
Min Values: 1
Max Values: 223
Mean Values: 103.89814049923
Standard Deviation Values: 44.377008902491
Object ID Field:
Fields:
None
Default Mosaic Method: Center
Allowed Mosaic Methods:
SortField:
SortValue: null
Mosaic Operator: First
Default Compression Quality: 75
Default Resampling Method: Bilinear
Max Record Count: null
Max Image Height: 4100
Max Image Width: 15000
Max Download Image Count: null
Max Mosaic Image Count: null
Allow Raster Function: true
Allow Copy: true
Allow Analysis: true
Allow Compute TiePoints: false
Supports Statistics: false
Supports Advanced Queries: false
Use StandardizedQueries: true
Raster Type Infos:
Name: Raster Dataset
Description: Supports all ArcGIS Raster Datasets
Help:
Has Raster Attribute Table: true
Edit Fields Info: null
Ownership Based AccessControl For Rasters: null
Child Resources:
Info
Raster Attribute Table
Histograms
Statistics
Key Properties
Legend
Raster Function Infos
Supported Operations:
Export Image
Identify
Measure
Compute Histograms
Compute Statistics Histograms
Get Samples
Compute Class Statistics
Query Boundary
Compute Pixel Location
Compute Angles
Validate
Project