View In:
ArcGIS JavaScript
ArcGIS Online Map Viewer
ArcGIS Earth
Service Description: The Geologic Atlas of Texas (GAT) is a series of 38 hard copy map sheets depicting surface geology for the entire state of Texas at a scale of 1:250,000. The University of Texas - Bureau of Economic Geology began compiling the Atlas in 1961 under the direction of Dr. Virgil E. Barnes. The effort involved the work of 28 UTBEG geologists, seven cartographers, and several editors, as well as additional geologists from other organizations. The last hardcopy map sheet in the GAT series was published in 1987.
Name: Geologic_Atlas_Texas_250k/pecos_3102a1
Description: The Geologic Atlas of Texas (GAT) is a series of 38 hard copy map sheets depicting surface geology for the entire state of Texas at a scale of 1:250,000. The University of Texas - Bureau of Economic Geology began compiling the Atlas in 1961 under the direction of Dr. Virgil E. Barnes. The effort involved the work of 28 UTBEG geologists, seven cartographers, and several editors, as well as additional geologists from other organizations. The last hardcopy map sheet in the GAT series was published in 1987.
Single Fused Map Cache: false
Extent:
XMin: -104.08002502002738
YMin: 30.74552047085122
XMax: -101.63916492717046
YMax: 32.094248010197695
Spatial Reference: 4326
(4326)
LatestVCSWkid(0)
Initial Extent:
XMin: -104.08002502002738
YMin: 30.74552047085122
XMax: -101.63916492717046
YMax: 32.094248010197695
Spatial Reference: 4326
(4326)
LatestVCSWkid(0)
Full Extent:
XMin: -104.08002502002738
YMin: 30.74552047085122
XMax: -101.63916492717046
YMax: 32.094248010197695
Spatial Reference: 4326
(4326)
LatestVCSWkid(0)
Pixel Size X: 2.2413774957363847E-4
Pixel Size Y: 1.9196235971341832E-4
Band Count: 3
Pixel Type: U8
RasterFunction Infos: {"rasterFunctionInfos": [{
"name": "None",
"description": "",
"help": ""
}]}
Mensuration Capabilities: Basic
Inspection Capabilities:
Has Histograms: true
Has Colormap: false
Has Multi Dimensions : false
Rendering Rule:
Min Scale: 0
Max Scale: 0
Resampling: false
Copyright Text: Texas Geographic Information Office, University of Texas - Bureau of Economic Geology
Service Data Type: esriImageServiceDataTypeRGB
Min Values: 0, 0, 0
Max Values: 255, 255, 255
Mean Values: 235.42465805222, 220.27001563392, 189.51337670885
Standard Deviation Values: 41.202096289928, 46.99982989139, 60.003710906699
Object ID Field:
Fields:
None
Default Mosaic Method: Center
Allowed Mosaic Methods:
SortField:
SortValue: null
Mosaic Operator: First
Default Compression Quality: 75
Default Resampling Method: Bilinear
Max Record Count: null
Max Image Height: 4100
Max Image Width: 15000
Max Download Image Count: null
Max Mosaic Image Count: null
Allow Raster Function: true
Allow Copy: true
Allow Analysis: true
Allow Compute TiePoints: false
Supports Statistics: false
Supports Advanced Queries: false
Use StandardizedQueries: true
Raster Type Infos:
Name: Raster Dataset
Description: Supports all ArcGIS Raster Datasets
Help:
Has Raster Attribute Table: false
Edit Fields Info: null
Ownership Based AccessControl For Rasters: null
Child Resources:
Info
Histograms
Statistics
Key Properties
Legend
Raster Function Infos
Supported Operations:
Export Image
Identify
Measure
Compute Histograms
Compute Statistics Histograms
Get Samples
Compute Class Statistics
Query Boundary
Compute Pixel Location
Compute Angles
Validate
Project