View In:
ArcGIS JavaScript
ArcGIS Online Map Viewer
ArcGIS Earth
Service Description: Bathymetry/stratmap_bathy_01m
Name: Bathymetry/stratmap_bathy_01m
Description:
Single Fused Map Cache: false
Extent:
XMin: -1.08973234938E7
YMin: 3004833.2622999996
XMax: -1.05335334938E7
YMax: 3496335.2622999996
Spatial Reference: 102100
(3857)
LatestVCSWkid(0)
Initial Extent:
XMin: -1.08973234938E7
YMin: 3004833.2622999996
XMax: -1.05335334938E7
YMax: 3496335.2622999996
Spatial Reference: 102100
(3857)
LatestVCSWkid(0)
Full Extent:
XMin: -1.08973234938E7
YMin: 3004833.2622999996
XMax: -1.05335334938E7
YMax: 3496335.2622999996
Spatial Reference: 102100
(3857)
LatestVCSWkid(0)
Pixel Size X: 1.0
Pixel Size Y: 1.0
Band Count: 1
Pixel Type: F32
RasterFunction Infos: {"rasterFunctionInfos": [{
"name": "None",
"description": "Make a Raster or Raster Dataset into a Function Raster Dataset.",
"help": ""
}]}
Mensuration Capabilities: Basic
Inspection Capabilities:
Has Histograms: true
Has Colormap: false
Has Multi Dimensions : false
Rendering Rule:
Min Scale: 0
Max Scale: 0
Copyright Text:
Service Data Type: esriImageServiceDataTypeGeneric
Min Values: -48.26100158691406
Max Values: 0
Mean Values: -2.545895436995428
Standard Deviation Values: 3.454161894595338
Object ID Field: objectid
Fields:
-
objectid
(
type: esriFieldTypeOID, alias: objectid
)
-
name
(
type: esriFieldTypeString, alias: name, length: 200
)
-
minps
(
type: esriFieldTypeDouble, alias: minps
)
-
maxps
(
type: esriFieldTypeDouble, alias: maxps
)
-
lowps
(
type: esriFieldTypeDouble, alias: lowps
)
-
highps
(
type: esriFieldTypeDouble, alias: highps
)
-
category
(
type: esriFieldTypeInteger, alias: category
, Coded Values:
[0: Unknown]
, [1: Primary]
, [2: Overview]
, ...6 more...
)
-
tag
(
type: esriFieldTypeString, alias: tag, length: 100
)
-
groupname
(
type: esriFieldTypeString, alias: groupname, length: 100
)
-
productname
(
type: esriFieldTypeString, alias: productname, length: 100
)
-
centerx
(
type: esriFieldTypeDouble, alias: centerx
)
-
centery
(
type: esriFieldTypeDouble, alias: centery
)
-
zorder
(
type: esriFieldTypeInteger, alias: zorder
)
-
cd_itemname
(
type: esriFieldTypeString, alias: Item Name, length: 255
)
-
cd_itemtype
(
type: esriFieldTypeString, alias: Item Type, length: 255
)
-
bisdatasetid
(
type: esriFieldTypeGUID, alias: BisDatasetId, length: 38
)
-
datatype
(
type: esriFieldTypeString, alias: Data Type, length: 255
, Coded Values:
[ASCII Grid: ASCII Grid]
, [BAG: BAG]
, [CRF: CRF]
, ...18 more...
)
-
percentcoverage
(
type: esriFieldTypeDouble, alias: Percent Coverage
)
-
biscellsize
(
type: esriFieldTypeDouble, alias: BIS Cell Size
)
-
verticalunits
(
type: esriFieldTypeString, alias: Vertical Units, length: 255
, Coded Values:
[Meters: Meters]
, [Feet: Feet]
, [Fathoms: Fathoms]
, ...1 more...
)
-
directionality
(
type: esriFieldTypeString, alias: Directionality, length: 255
, Coded Values:
[Positive Up: Positive Up]
, [Positive Down: Positive Down]
)
-
proxyrasterpath
(
type: esriFieldTypeString, alias: Proxy Raster Path, length: 1024
)
-
minelevation
(
type: esriFieldTypeDouble, alias: Min Elevation
)
-
maxelevation
(
type: esriFieldTypeDouble, alias: Max Elevation
)
-
depthfield
(
type: esriFieldTypeString, alias: Depth Field, length: 255
)
-
cellsize
(
type: esriFieldTypeDouble, alias: CellSize
)
-
shape
(
type: esriFieldTypeGeometry, alias: shape
)
Default Mosaic Method: LockRaster
Allowed Mosaic Methods: LockRaster,NorthWest,Center,ByAttribute,Nadir,Viewpoint,Seamline,None
SortField:
SortValue: null
Mosaic Operator: Mean
Default Compression Quality: 75
Default Resampling Method: Bilinear
Max Record Count: 1000
Max Image Height: 4100
Max Image Width: 15000
Max Download Image Count: 20
Max Mosaic Image Count: 42
Allow Raster Function: true
Allow Copy: true
Allow Analysis: true
Allow Compute TiePoints: false
Supports Statistics: true
Supports Advanced Queries: true
Use StandardizedQueries: true
Raster Type Infos:
Name: Raster Dataset
Description: Supports all ArcGIS Raster Datasets
Help:
Has Raster Attribute Table: false
Edit Fields Info: null
Ownership Based AccessControl For Rasters: null
Child Resources:
Info
Histograms
Statistics
Key Properties
Legend
Raster Function Infos
Supported Operations:
Export Image
Query
Identify
Measure
Compute Histograms
Compute Statistics Histograms
Get Samples
Compute Class Statistics
Query GPS Info
Find Images
Image to Map
Map to Image
Measure from Image
Image to Map Multiray
Query Boundary
Compute Pixel Location
Compute Angles
Validate
Project