{
 "currentVersion": 11.3,
 "serviceDescription": "This orthoimagery dataset was acquired by Kucera International in January and February 2013 during leaf-off conditions in Harris County, Texas, mainly over the City of Houston. Aerial orthoimagery flown during leaf-off conditions allows the data user to 1) identify man-made features through the deciduous tree canopy and 2) distinguish between evergreen and deciduous vegetation. The entire dataset is available at 12-inch pixel resolution. This pixel resolution allows the user to identify detailed features on the ground such as road turning lanes, fences, and park benches. ",
 "name": "StratMap/StratMap13_NCCIR_12in_Houston",
 "description": "This orthoimagery dataset was acquired by Kucera International in January and February 2013 during leaf-off conditions in Harris County, Texas, mainly over the City of Houston. Aerial orthoimagery flown during leaf-off conditions allows the data user to 1) identify man-made features through the deciduous tree canopy and 2) distinguish between evergreen and deciduous vegetation. The entire dataset is available at 12-inch pixel resolution. This pixel resolution allows the user to identify detailed features on the ground such as road turning lanes, fences, and park benches. ",
 "extent": {
  "xmin": -1.0657295423E7,
  "ymin": 3443244.954446837,
  "xmax": -1.0576885364579884E7,
  "ymax": 3519821.535599999,
  "spatialReference": {
   "wkid": 102100,
   "latestWkid": 3857
  }
 },
 "initialExtent": {
  "xmin": -1.0657295423E7,
  "ymin": 3443244.954446837,
  "xmax": -1.0576885364579884E7,
  "ymax": 3519821.535599999,
  "spatialReference": {
   "wkid": 102100,
   "latestWkid": 3857
  }
 },
 "fullExtent": {
  "xmin": -1.0657295423E7,
  "ymin": 3443244.954446837,
  "xmax": -1.0576885364579884E7,
  "ymax": 3519821.535599999,
  "spatialReference": {
   "wkid": 102100,
   "latestWkid": 3857
  }
 },
 "sortableFields": "minps,maxps,lowps,highps,centerx,centery,zorder,st_area(shape),st_perimeter(shape)",
 "bandCount": 4,
 "pixelType": "U8",
 "minValues": [
  1,
  6,
  6,
  10
 ],
 "maxValues": [
  255,
  255,
  255,
  243
 ],
 "meanValues": [
  99.69109325390205,
  103.08854468949434,
  98.02667841657569,
  136.18624748216112
 ],
 "stdvValues": [
  36.43770642980942,
  30.626421657746455,
  27.473841855494292,
  23.4052121638185
 ],
 "hasMultidimensions": false,
 "pixelSizeX": 0.30480060960121635,
 "pixelSizeY": 0.30480060960121913,
 "meanPixelSize": 0.30480060960121774,
 "datasetFormat": "AMD",
 "uncompressedSize": 265115231280,
 "blockWidth": 2048,
 "blockHeight": 256,
 "compressionType": "None",
 "bandNames": [
  "Red",
  "Green",
  "Blue",
  "Infrared"
 ],
 "allowCopy": true,
 "allowAnalysis": true,
 "itemAccess": false,
 "inspectionCapabilities": "",
 "minPixelSize": 0,
 "maxPixelSize": 0,
 "copyrightText": "Texas Geographic Information Office, City of Houston",
 "serviceDataType": "esriImageServiceDataTypeGeneric",
 "serviceSourceType": "esriImageServiceSourceTypeMosaicDataset",
 "objectIdField": "objectid",
 "fields": [
  {
   "name": "objectid",
   "type": "esriFieldTypeOID",
   "alias": "OBJECTID",
   "domain": null
  },
  {
   "name": "name",
   "type": "esriFieldTypeString",
   "alias": "Name",
   "domain": null,
   "length": 200
  },
  {
   "name": "minps",
   "type": "esriFieldTypeDouble",
   "alias": "MinPS",
   "domain": null
  },
  {
   "name": "maxps",
   "type": "esriFieldTypeDouble",
   "alias": "MaxPS",
   "domain": null
  },
  {
   "name": "lowps",
   "type": "esriFieldTypeDouble",
   "alias": "LowPS",
   "domain": null
  },
  {
   "name": "highps",
   "type": "esriFieldTypeDouble",
   "alias": "HighPS",
   "domain": null
  },
  {
   "name": "category",
   "type": "esriFieldTypeInteger",
   "alias": "Category",
   "domain": {
    "type": "codedValue",
    "name": "MosaicCatalogItemCategoryDomain",
    "description": "Catalog item categories.",
    "codedValues": [
     {
      "name": "Unknown",
      "code": 0
     },
     {
      "name": "Primary",
      "code": 1
     },
     {
      "name": "Overview",
      "code": 2
     },
     {
      "name": "Unprocessed Overview",
      "code": 3
     },
     {
      "name": "Partial Overview",
      "code": 4
     },
     {
      "name": "Inactive",
      "code": 5
     },
     {
      "name": "Uploaded",
      "code": 253
     },
     {
      "name": "Incomplete",
      "code": 254
     },
     {
      "name": "Custom",
      "code": 255
     }
    ],
    "mergePolicy": "esriMPTDefaultValue",
    "splitPolicy": "esriSPTDefaultValue"
   }
  },
  {
   "name": "tag",
   "type": "esriFieldTypeString",
   "alias": "Tag",
   "domain": null,
   "length": 100
  },
  {
   "name": "groupname",
   "type": "esriFieldTypeString",
   "alias": "GroupName",
   "domain": null,
   "length": 100
  },
  {
   "name": "productname",
   "type": "esriFieldTypeString",
   "alias": "ProductName",
   "domain": null,
   "length": 100
  },
  {
   "name": "centerx",
   "type": "esriFieldTypeDouble",
   "alias": "CenterX",
   "domain": null
  },
  {
   "name": "centery",
   "type": "esriFieldTypeDouble",
   "alias": "CenterY",
   "domain": null
  },
  {
   "name": "zorder",
   "type": "esriFieldTypeInteger",
   "alias": "ZOrder",
   "domain": null
  },
  {
   "name": "shape",
   "type": "esriFieldTypeGeometry",
   "alias": "Shape",
   "domain": null
  }
 ],
 "capabilities": "Catalog,Image,Metadata",
 "defaultMosaicMethod": "Northwest",
 "allowedMosaicMethods": "NorthWest,Center,LockRaster,ByAttribute,Nadir,Viewpoint,Seamline,None",
 "sortField": "",
 "sortValue": null,
 "sortAscending": true,
 "mosaicOperator": "First",
 "maxDownloadSizeLimit": 2048,
 "defaultCompressionQuality": 75,
 "defaultResamplingMethod": "Bilinear",
 "maxImageHeight": 4100,
 "maxImageWidth": 15000,
 "maxRecordCount": 1000,
 "maxDownloadImageCount": 20,
 "maxMosaicImageCount": 20,
 "allowRasterFunction": true,
 "rasterFunctionInfos": [
  {
   "name": "None",
   "description": "",
   "help": ""
  }
 ],
 "rasterTypeInfos": [
  {
   "name": "Raster Dataset",
   "description": "Supports all ArcGIS Raster Datasets",
   "help": ""
  }
 ],
 "mensurationCapabilities": "None",
 "hasHistograms": true,
 "hasColormap": false,
 "hasRasterAttributeTable": false,
 "minScale": 0,
 "maxScale": 0,
 "exportTilesAllowed": false,
 "supportsStatistics": true,
 "supportsAdvancedQueries": true,
 "editFieldsInfo": null,
 "ownershipBasedAccessControlForRasters": null,
 "allowComputeTiePoints": false,
 "useStandardizedQueries": true,
 "advancedQueryCapabilities": {
  "useStandardizedQueries": true,
  "supportsStatistics": true,
  "supportsOrderBy": true,
  "supportsDistinct": true,
  "supportsPagination": true
 },
 "spatialReference": {
  "wkid": 102100,
  "latestWkid": 3857
 },
 "resampling": false
}
