{
 "currentVersion": 11.5,
 "serviceDescription": "The Smith County GIS Consortium 2020 6-inch Digital aerial imagery was acquired, processed to orthophotography and delivered to display approximately 1,104 square miles of the greater countywide area. The Smith County area orthoimagery delivery includes 1,104 Quarter-Quarter Quads (DO4Qs) uncompressed GeoTIFF tiles and 1,104 DO4Q compressed JPEG2000 tiles and 1,104 DO4Q ECW tiles, countywide JPEG2000 and ECW mosaics along with supporting files. The aerial imagery for the entire countywide project area was collected and processed exclusively by Surdex Corporation. The Statement of Work is issued by the Smith County GIS Consortium to acquire leaf-off high resolution 6-inch orthoimagery and associated products from an airborne digital camera system.",
 "serviceItemId": "d45f1313b4c445c8a23a738fb1f21ad9",
 "name": "Smith_County/SmithCo_2020_NCCIR_6in",
 "description": "The Smith County GIS Consortium 2020 6-inch Digital aerial imagery was acquired, processed to orthophotography and delivered to display approximately 1,104 square miles of the greater countywide area. The Smith County area orthoimagery delivery includes 1,104 Quarter-Quarter Quads (DO4Qs) uncompressed GeoTIFF tiles and 1,104 DO4Q compressed JPEG2000 tiles and 1,104 DO4Q ECW tiles, countywide JPEG2000 and ECW mosaics along with supporting files. The aerial imagery for the entire countywide project area was collected and processed exclusively by Surdex Corporation. The Statement of Work is issued by the Smith County GIS Consortium to acquire leaf-off high resolution 6-inch orthoimagery and associated products from an airborne digital camera system.",
 "extent": {
  "xmin": -1.06433558097E7,
  "ymin": 3777512.0069483034,
  "xmax": -1.05682137749829E7,
  "ymax": 3856126.0253000036,
  "spatialReference": {
   "wkid": 102100,
   "latestWkid": 3857
  }
 },
 "initialExtent": {
  "xmin": -1.06433558097E7,
  "ymin": 3777512.0069483034,
  "xmax": -1.05682137749829E7,
  "ymax": 3856126.0253000036,
  "spatialReference": {
   "wkid": 102100,
   "latestWkid": 3857
  }
 },
 "fullExtent": {
  "xmin": -1.06433558097E7,
  "ymin": 3777512.0069483034,
  "xmax": -1.05682137749829E7,
  "ymax": 3856126.0253000036,
  "spatialReference": {
   "wkid": 102100,
   "latestWkid": 3857
  }
 },
 "sortableFields": "MinPS,MaxPS,LowPS,HighPS,CenterX,CenterY,ZOrder",
 "bandCount": 4,
 "pixelType": "U8",
 "minValues": [
  20,
  21,
  30,
  2
 ],
 "maxValues": [
  237,
  238,
  242,
  231
 ],
 "meanValues": [
  101.41636805524529,
  98.61075445694425,
  85.16714237021606,
  121.73512944767968
 ],
 "stdvValues": [
  32.16784413103821,
  28.27922582465647,
  24.864262962241764,
  31.123179186082606
 ],
 "serviceProperties": "NorthWest<\/MosaicMethod>First<\/MosaicOperator>true<\/SortAscending><\/LockImageID>Name<\/TileOrderField>0<\/TileOrderBase>600.000000<\/AvgImageSpacingX>300.000000<\/AvgImageSpacingY>0.0<\/ViewPointX>0.0<\/ViewPointY>0.0<\/ViewPointDefShiftX>0.0<\/ViewPointDefShiftY>None<\/CompressionMethod>75<\/CompressionQuality>0.010000<\/CompressionTolerance>Bilinear<\/SamplingMethod><\/ImageServiceProperties><\/ImageServer>",
 "allowedFields": "Name,MinPS,MaxPS,LowPS,HighPS,Tag,GroupName,ProductName,CenterX,CenterY,ZOrder",
 "hasMultidimensions": false,
 "pixelSizeX": 0.15240029999999946,
 "pixelSizeY": 0.1524003000000003,
 "meanPixelSize": 0.15240029999999988,
 "datasetFormat": "AMD",
 "uncompressedSize": 1017352119292,
 "blockWidth": 2048,
 "blockHeight": 256,
 "compressionType": "None",
 "bandNames": [
  "Red",
  "Green",
  "Blue",
  "Infrared"
 ],
 "allowCopy": true,
 "allowAnalysis": true,
 "itemAccess": false,
 "inspectionCapabilities": "",
 "minPixelSize": 0,
 "maxPixelSize": 0,
 "copyrightText": "Texas Geographic Information Office, Smith County 911 District",
 "serviceDataType": "esriImageServiceDataTypeGeneric",
 "serviceSourceType": "esriImageServiceSourceTypeMosaicDataset",
 "objectIdField": "objectid",
 "fields": [
  {
   "name": "objectid",
   "type": "esriFieldTypeOID",
   "alias": "OBJECTID",
   "domain": null
  },
  {
   "name": "name",
   "type": "esriFieldTypeString",
   "alias": "Name",
   "domain": null,
   "length": 200
  },
  {
   "name": "minps",
   "type": "esriFieldTypeDouble",
   "alias": "MinPS",
   "domain": null
  },
  {
   "name": "maxps",
   "type": "esriFieldTypeDouble",
   "alias": "MaxPS",
   "domain": null
  },
  {
   "name": "lowps",
   "type": "esriFieldTypeDouble",
   "alias": "LowPS",
   "domain": null
  },
  {
   "name": "highps",
   "type": "esriFieldTypeDouble",
   "alias": "HighPS",
   "domain": null
  },
  {
   "name": "category",
   "type": "esriFieldTypeInteger",
   "alias": "Category",
   "domain": {
    "type": "codedValue",
    "name": "MosaicCatalogItemCategoryDomain",
    "description": "Catalog item categories.",
    "codedValues": [
     {
      "name": "Unknown",
      "code": 0
     },
     {
      "name": "Primary",
      "code": 1
     },
     {
      "name": "Overview",
      "code": 2
     },
     {
      "name": "Unprocessed Overview",
      "code": 3
     },
     {
      "name": "Partial Overview",
      "code": 4
     },
     {
      "name": "Inactive",
      "code": 5
     },
     {
      "name": "Uploaded",
      "code": 253
     },
     {
      "name": "Incomplete",
      "code": 254
     },
     {
      "name": "Custom",
      "code": 255
     }
    ],
    "mergePolicy": "esriMPTDefaultValue",
    "splitPolicy": "esriSPTDefaultValue"
   }
  },
  {
   "name": "tag",
   "type": "esriFieldTypeString",
   "alias": "Tag",
   "domain": null,
   "length": 100
  },
  {
   "name": "groupname",
   "type": "esriFieldTypeString",
   "alias": "GroupName",
   "domain": null,
   "length": 100
  },
  {
   "name": "productname",
   "type": "esriFieldTypeString",
   "alias": "ProductName",
   "domain": null,
   "length": 100
  },
  {
   "name": "centerx",
   "type": "esriFieldTypeDouble",
   "alias": "CenterX",
   "domain": null
  },
  {
   "name": "centery",
   "type": "esriFieldTypeDouble",
   "alias": "CenterY",
   "domain": null
  },
  {
   "name": "zorder",
   "type": "esriFieldTypeInteger",
   "alias": "ZOrder",
   "domain": null
  },
  {
   "name": "shape",
   "type": "esriFieldTypeGeometry",
   "alias": "Shape",
   "domain": null
  }
 ],
 "capabilities": "Catalog,Image,Metadata",
 "defaultMosaicMethod": "Northwest",
 "allowedMosaicMethods": "NorthWest,Center,LockRaster,ByAttribute,Nadir,Viewpoint,Seamline,None",
 "sortField": "",
 "sortValue": null,
 "sortAscending": true,
 "mosaicOperator": "First",
 "maxDownloadSizeLimit": 2048,
 "defaultCompressionQuality": 75,
 "defaultResamplingMethod": "Bilinear",
 "maxImageHeight": 4100,
 "maxImageWidth": 15000,
 "maxRecordCount": 1000,
 "maxDownloadImageCount": 20,
 "maxMosaicImageCount": 20,
 "allowRasterFunction": true,
 "rasterFunctionInfos": [
  {
   "name": "None",
   "description": "",
   "help": ""
  }
 ],
 "rasterTypeInfos": [
  {
   "name": "Raster Dataset",
   "description": "Supports all ArcGIS Raster Datasets",
   "help": ""
  }
 ],
 "mensurationCapabilities": "None",
 "hasHistograms": true,
 "hasColormap": false,
 "hasRasterAttributeTable": false,
 "minScale": 0,
 "maxScale": 0,
 "exportTilesAllowed": false,
 "supportsStatistics": true,
 "supportsAdvancedQueries": true,
 "editFieldsInfo": null,
 "ownershipBasedAccessControlForRasters": null,
 "allowComputeTiePoints": false,
 "useStandardizedQueries": true,
 "advancedQueryCapabilities": {
  "useStandardizedQueries": true,
  "supportsStatistics": true,
  "supportsOrderBy": true,
  "supportsDistinct": true,
  "supportsPagination": true
 },
 "spatialReference": {
  "wkid": 102100,
  "latestWkid": 3857
 },
 "resampling": false
}
