{
 "currentVersion": 11.3,
 "serviceDescription": "National Land Cover Database 2011 (NLCD 2011) is the most recent national land cover product created by the Multi-Resolution Land Characteristics (MRLC) Consortium. NLCD 2011 provides - for the first time - the capability to assess wall-to-wall, spatially explicit, national land cover changes and trends across the United States from 2001 to 2011. As with two previous NLCD land cover products NLCD 2011 keeps the same 16-class land cover classification scheme that has been applied consistently across the United States at a spatial resolution of 30 meters. NLCD 2011 is based primarily on a decision-tree classification of circa 2011 Landsat satellite data.",
 "name": "MRLC/National_Land_Cover_Database_2011",
 "description": "National Land Cover Database 2011 (NLCD 2011) is the most recent national land cover product created by the Multi-Resolution Land Characteristics (MRLC) Consortium. NLCD 2011 provides - for the first time - the capability to assess wall-to-wall, spatially explicit, national land cover changes and trends across the United States from 2001 to 2011. As with two previous NLCD land cover products NLCD 2011 keeps the same 16-class land cover classification scheme that has been applied consistently across the United States at a spatial resolution of 30 meters. NLCD 2011 is based primarily on a decision-tree classification of circa 2011 Landsat satellite data.",
 "extent": {
  "xmin": -1.20966858518E7,
  "ymin": 2884755.8999999985,
  "xmax": -1.03460658518E7,
  "ymax": 4473105.8999999985,
  "spatialReference": {
   "wkid": 102100,
   "latestWkid": 3857
  }
 },
 "initialExtent": {
  "xmin": -1.20966858518E7,
  "ymin": 2884755.8999999985,
  "xmax": -1.03460658518E7,
  "ymax": 4473105.8999999985,
  "spatialReference": {
   "wkid": 102100,
   "latestWkid": 3857
  }
 },
 "fullExtent": {
  "xmin": -1.20966858518E7,
  "ymin": 2884755.8999999985,
  "xmax": -1.03460658518E7,
  "ymax": 4473105.8999999985,
  "spatialReference": {
   "wkid": 102100,
   "latestWkid": 3857
  }
 },
 "sortableFields": "MinPS,MaxPS,LowPS,HighPS,CenterX,CenterY,ZOrder",
 "bandCount": 3,
 "pixelType": "U8",
 "minValues": [
  0,
  0,
  0
 ],
 "maxValues": [
  249,
  249,
  249
 ],
 "meanValues": [
  40.06861666381956,
  39.808527820491044,
  26.541830400363544
 ],
 "stdvValues": [
  78.63732304646237,
  76.85052476922044,
  54.65855311890121
 ],
 "hasMultidimensions": false,
 "pixelSizeX": 30,
 "pixelSizeY": 30,
 "meanPixelSize": 30,
 "datasetFormat": "AMD",
 "uncompressedSize": 9268657590,
 "blockWidth": 2048,
 "blockHeight": 256,
 "compressionType": "None",
 "bandNames": [
  "Band_1",
  "Band_2",
  "Band_3"
 ],
 "allowCopy": true,
 "allowAnalysis": true,
 "itemAccess": false,
 "inspectionCapabilities": "",
 "minPixelSize": 0,
 "maxPixelSize": 0,
 "copyrightText": "Texas Geographic Information Office, USGS",
 "serviceDataType": "esriImageServiceDataTypeRGB",
 "serviceSourceType": "esriImageServiceSourceTypeMosaicDataset",
 "objectIdField": "objectid",
 "fields": [
  {
   "name": "objectid",
   "type": "esriFieldTypeOID",
   "alias": "OBJECTID",
   "domain": null
  },
  {
   "name": "name",
   "type": "esriFieldTypeString",
   "alias": "Name",
   "domain": null,
   "length": 200
  },
  {
   "name": "minps",
   "type": "esriFieldTypeDouble",
   "alias": "MinPS",
   "domain": null
  },
  {
   "name": "maxps",
   "type": "esriFieldTypeDouble",
   "alias": "MaxPS",
   "domain": null
  },
  {
   "name": "lowps",
   "type": "esriFieldTypeDouble",
   "alias": "LowPS",
   "domain": null
  },
  {
   "name": "highps",
   "type": "esriFieldTypeDouble",
   "alias": "HighPS",
   "domain": null
  },
  {
   "name": "category",
   "type": "esriFieldTypeInteger",
   "alias": "Category",
   "domain": {
    "type": "codedValue",
    "name": "MosaicCatalogItemCategoryDomain",
    "description": "Catalog item categories.",
    "codedValues": [
     {
      "name": "Unknown",
      "code": 0
     },
     {
      "name": "Primary",
      "code": 1
     },
     {
      "name": "Overview",
      "code": 2
     },
     {
      "name": "Unprocessed Overview",
      "code": 3
     },
     {
      "name": "Partial Overview",
      "code": 4
     },
     {
      "name": "Inactive",
      "code": 5
     },
     {
      "name": "Uploaded",
      "code": 253
     },
     {
      "name": "Incomplete",
      "code": 254
     },
     {
      "name": "Custom",
      "code": 255
     }
    ],
    "mergePolicy": "esriMPTDefaultValue",
    "splitPolicy": "esriSPTDefaultValue"
   }
  },
  {
   "name": "tag",
   "type": "esriFieldTypeString",
   "alias": "Tag",
   "domain": null,
   "length": 100
  },
  {
   "name": "groupname",
   "type": "esriFieldTypeString",
   "alias": "GroupName",
   "domain": null,
   "length": 100
  },
  {
   "name": "productname",
   "type": "esriFieldTypeString",
   "alias": "ProductName",
   "domain": null,
   "length": 100
  },
  {
   "name": "centerx",
   "type": "esriFieldTypeDouble",
   "alias": "CenterX",
   "domain": null
  },
  {
   "name": "centery",
   "type": "esriFieldTypeDouble",
   "alias": "CenterY",
   "domain": null
  },
  {
   "name": "zorder",
   "type": "esriFieldTypeInteger",
   "alias": "ZOrder",
   "domain": null
  },
  {
   "name": "shape",
   "type": "esriFieldTypeGeometry",
   "alias": "Shape",
   "domain": null
  }
 ],
 "capabilities": "Catalog,Mensuration,Image,Metadata",
 "defaultMosaicMethod": "Northwest",
 "allowedMosaicMethods": "NorthWest,Center,LockRaster,ByAttribute,Nadir,Viewpoint,Seamline,None",
 "sortField": "",
 "sortValue": null,
 "sortAscending": true,
 "mosaicOperator": "First",
 "maxDownloadSizeLimit": 2048,
 "defaultCompressionQuality": 75,
 "defaultResamplingMethod": "Bilinear",
 "maxImageHeight": 4100,
 "maxImageWidth": 15000,
 "maxRecordCount": 1000,
 "maxDownloadImageCount": 20,
 "maxMosaicImageCount": 20,
 "allowRasterFunction": true,
 "rasterFunctionInfos": [
  {
   "name": "None",
   "description": "",
   "help": ""
  }
 ],
 "rasterTypeInfos": [
  {
   "name": "Raster Dataset",
   "description": "Supports all ArcGIS Raster Datasets",
   "help": ""
  }
 ],
 "mensurationCapabilities": "",
 "hasHistograms": true,
 "hasColormap": false,
 "hasRasterAttributeTable": false,
 "minScale": 0,
 "maxScale": 0,
 "exportTilesAllowed": false,
 "supportsStatistics": true,
 "supportsAdvancedQueries": true,
 "editFieldsInfo": null,
 "ownershipBasedAccessControlForRasters": null,
 "allowComputeTiePoints": false,
 "useStandardizedQueries": true,
 "advancedQueryCapabilities": {
  "useStandardizedQueries": true,
  "supportsStatistics": true,
  "supportsOrderBy": true,
  "supportsDistinct": true,
  "supportsPagination": true
 },
 "spatialReference": {
  "wkid": 102100,
  "latestWkid": 3857
 },
 "resampling": false
}
