{
 "currentVersion": 11.3,
 "serviceDescription": "Black and White Imagery from TXDOT for for Bexar County 1977",
 "name": "Historic_Imagery/Bexar_TxDOT_1977",
 "description": "Black and White Imagery from TXDOT for for Bexar County 1977",
 "extent": {
  "xmin": 517473.0367368058,
  "ymin": 3220649.180740653,
  "xmax": 586150.0367368058,
  "ymax": 3293424.180740653,
  "spatialReference": {
   "wkid": 26914,
   "latestWkid": 26914
  }
 },
 "initialExtent": {
  "xmin": 517473.0367368058,
  "ymin": 3220649.180740653,
  "xmax": 586150.0367368058,
  "ymax": 3293424.180740653,
  "spatialReference": {
   "wkid": 26914,
   "latestWkid": 26914
  }
 },
 "fullExtent": {
  "xmin": 517473.0367368058,
  "ymin": 3220649.180740653,
  "xmax": 586150.0367368058,
  "ymax": 3293424.180740653,
  "spatialReference": {
   "wkid": 26914,
   "latestWkid": 26914
  }
 },
 "sortableFields": "",
 "bandCount": 1,
 "pixelType": "U8",
 "minValues": [
  1
 ],
 "maxValues": [
  209
 ],
 "meanValues": [
  110.44782698676
 ],
 "stdvValues": [
  39.558615558816
 ],
 "hasMultidimensions": false,
 "pixelSizeX": 1,
 "pixelSizeY": 1,
 "meanPixelSize": 1,
 "datasetFormat": "IMAGINE Image",
 "uncompressedSize": 4997968675,
 "blockWidth": 512,
 "blockHeight": 512,
 "compressionType": "None",
 "bandNames": [
  "Layer_1"
 ],
 "allowCopy": true,
 "allowAnalysis": true,
 "itemAccess": false,
 "inspectionCapabilities": "",
 "noDataValue": 0,
 "noDataValues": [
  0
 ],
 "minPixelSize": 0,
 "maxPixelSize": 0,
 "copyrightText": "Texas Geographic Information Office, TxDOT",
 "serviceDataType": "esriImageServiceDataTypeGeneric",
 "serviceSourceType": "esriImageServiceSourceTypeDataset",
 "objectIdField": "",
 "fields": [],
 "capabilities": "Mensuration,Image,Metadata",
 "defaultMosaicMethod": "Center",
 "allowedMosaicMethods": "",
 "sortField": "",
 "sortValue": null,
 "sortAscending": true,
 "mosaicOperator": "First",
 "defaultCompressionQuality": 75,
 "defaultResamplingMethod": "Bilinear",
 "maxImageHeight": 4100,
 "maxImageWidth": 15000,
 "allowRasterFunction": true,
 "rasterFunctionInfos": [
  {
   "name": "None",
   "description": "",
   "help": ""
  }
 ],
 "rasterTypeInfos": [
  {
   "name": "Raster Dataset",
   "description": "Supports all ArcGIS Raster Datasets",
   "help": ""
  }
 ],
 "mensurationCapabilities": "Basic",
 "hasHistograms": true,
 "hasColormap": false,
 "hasRasterAttributeTable": true,
 "minScale": 0,
 "maxScale": 0,
 "exportTilesAllowed": false,
 "supportsStatistics": false,
 "supportsAdvancedQueries": false,
 "editFieldsInfo": null,
 "ownershipBasedAccessControlForRasters": null,
 "allowComputeTiePoints": false,
 "useStandardizedQueries": true,
 "advancedQueryCapabilities": {
  "useStandardizedQueries": true,
  "supportsStatistics": false,
  "supportsOrderBy": false,
  "supportsDistinct": false,
  "supportsPagination": false
 },
 "spatialReference": {
  "wkid": 26914,
  "latestWkid": 26914
 },
 "resampling": false
}
