{
 "currentVersion": 11.3,
 "serviceDescription": "Historic_Imagery/AustinTX_1940_DT_jp2",
 "name": "Historic_Imagery/AustinTX_1940_DT_jp2",
 "description": "",
 "extent": {
  "xmin": -1.0886880995466737E7,
  "ymin": 3534225.55275249,
  "xmax": -1.0874859112855248E7,
  "ymax": 3543710.5760016874,
  "spatialReference": {
   "wkid": 102100,
   "latestWkid": 3857
  }
 },
 "initialExtent": {
  "xmin": -1.0886880995466737E7,
  "ymin": 3534225.55275249,
  "xmax": -1.0874859112855248E7,
  "ymax": 3543710.5760016874,
  "spatialReference": {
   "wkid": 102100,
   "latestWkid": 3857
  }
 },
 "fullExtent": {
  "xmin": -1.0886880995466737E7,
  "ymin": 3534225.55275249,
  "xmax": -1.0874859112855248E7,
  "ymax": 3543710.5760016874,
  "spatialReference": {
   "wkid": 102100,
   "latestWkid": 3857
  }
 },
 "sortableFields": "",
 "bandCount": 1,
 "pixelType": "U16",
 "minValues": [
  0
 ],
 "maxValues": [
  65535
 ],
 "meanValues": [
  23835.665466098
 ],
 "stdvValues": [
  12739.765876907
 ],
 "hasMultidimensions": false,
 "pixelSizeX": 0.6680679417331994,
 "pixelSizeY": 0.6950771837312975,
 "meanPixelSize": 0.6815725627322484,
 "datasetFormat": "JP2",
 "uncompressedSize": 491119540,
 "blockWidth": 2048,
 "blockHeight": 2048,
 "compressionType": "JPEG2000",
 "bandNames": [
  "Band_1"
 ],
 "allowCopy": true,
 "allowAnalysis": true,
 "itemAccess": false,
 "inspectionCapabilities": "",
 "minPixelSize": 0,
 "maxPixelSize": 0,
 "copyrightText": "",
 "serviceDataType": "esriImageServiceDataTypeGeneric",
 "serviceSourceType": "esriImageServiceSourceTypeDataset",
 "objectIdField": "",
 "fields": [],
 "capabilities": "Image,Metadata,Mensuration",
 "defaultMosaicMethod": "Center",
 "allowedMosaicMethods": "",
 "sortField": "",
 "sortValue": null,
 "sortAscending": true,
 "mosaicOperator": "First",
 "defaultCompressionQuality": 75,
 "defaultResamplingMethod": "Bilinear",
 "maxImageHeight": 4100,
 "maxImageWidth": 15000,
 "allowRasterFunction": true,
 "rasterFunctionInfos": [
  {
   "name": "None",
   "description": "",
   "help": ""
  }
 ],
 "rasterTypeInfos": [
  {
   "name": "Raster Dataset",
   "description": "Supports all ArcGIS Raster Datasets",
   "help": ""
  }
 ],
 "mensurationCapabilities": "Basic",
 "hasHistograms": true,
 "hasColormap": false,
 "hasRasterAttributeTable": false,
 "minScale": 0,
 "maxScale": 0,
 "exportTilesAllowed": false,
 "supportsStatistics": false,
 "supportsAdvancedQueries": false,
 "editFieldsInfo": null,
 "ownershipBasedAccessControlForRasters": null,
 "allowComputeTiePoints": false,
 "useStandardizedQueries": true,
 "advancedQueryCapabilities": {
  "useStandardizedQueries": true,
  "supportsStatistics": false,
  "supportsOrderBy": false,
  "supportsDistinct": false,
  "supportsPagination": false
 },
 "spatialReference": {
  "wkid": 102100,
  "latestWkid": 3857
 }
}
