{
 "currentVersion": 11.5,
 "serviceDescription": "Bathymetry/stratmap_bathy",
 "serviceItemId": "4a4e98e8dad44432a33d6c83a1ca1c92",
 "name": "Bathymetry/stratmap_bathy",
 "description": "",
 "extent": {
  "xmin": -1.08973234938E7,
  "ymin": 3004833.2622999996,
  "xmax": -1.05335334938E7,
  "ymax": 3496335.2622999996,
  "spatialReference": {
   "wkid": 102100,
   "latestWkid": 3857
  }
 },
 "initialExtent": {
  "xmin": -1.08973234938E7,
  "ymin": 3004833.2622999996,
  "xmax": -1.05335334938E7,
  "ymax": 3496335.2622999996,
  "spatialReference": {
   "wkid": 102100,
   "latestWkid": 3857
  }
 },
 "fullExtent": {
  "xmin": -1.08973234938E7,
  "ymin": 3004833.2622999996,
  "xmax": -1.05335334938E7,
  "ymax": 3496335.2622999996,
  "spatialReference": {
   "wkid": 102100,
   "latestWkid": 3857
  }
 },
 "sortableFields": "MinPS,MaxPS,LowPS,HighPS,CenterX,CenterY,ZOrder,Shape_Length,Shape_Area,PercentCoverage,BisCellSize,MinElevation,MaxElevation,CellSize",
 "bandCount": 1,
 "pixelType": "F32",
 "minValues": [
  -34.276123046875
 ],
 "maxValues": [
  0
 ],
 "meanValues": [
  -2.2150001342852264
 ],
 "stdvValues": [
  1.369536736833129
 ],
 "serviceProperties": "LockRaster<\/MosaicMethod>First<\/MosaicOperator>true<\/SortAscending><\/LockImageID>Name<\/TileOrderField>0<\/TileOrderBase>600.000000<\/AvgImageSpacingX>300.000000<\/AvgImageSpacingY>0.0<\/ViewPointX>0.0<\/ViewPointY>0.0<\/ViewPointDefShiftX>0.0<\/ViewPointDefShiftY>None<\/CompressionMethod>75<\/CompressionQuality>0.010000<\/CompressionTolerance>Bilinear<\/SamplingMethod><\/ImageServiceProperties><\/ImageServer>",
 "allowedFields": "Name,MinPS,MaxPS,LowPS,HighPS,Tag,GroupName,ProductName,CenterX,CenterY,ZOrder,Shape_Length,Shape_Area,cd_itemname,cd_itemsource,cd_itemtype,BisDatasetId,DataType,PercentCoverage,BisCellSize,VerticalUnits,Directionality,ProxyRasterPath,MinElevation,MaxElevation,DepthField,CellSize",
 "hasMultidimensions": false,
 "pixelSizeX": 1,
 "pixelSizeY": 1,
 "meanPixelSize": 1,
 "datasetFormat": "AMD",
 "uncompressedSize": 715214050320,
 "blockWidth": 2048,
 "blockHeight": 256,
 "compressionType": "None",
 "bandNames": [
  "Band_1"
 ],
 "allowCopy": true,
 "allowAnalysis": true,
 "itemAccess": false,
 "inspectionCapabilities": "",
 "minPixelSize": 0,
 "maxPixelSize": 0,
 "copyrightText": "",
 "serviceDataType": "esriImageServiceDataTypeGeneric",
 "serviceSourceType": "esriImageServiceSourceTypeMosaicDataset",
 "objectIdField": "OBJECTID",
 "fields": [
  {
   "name": "OBJECTID",
   "type": "esriFieldTypeOID",
   "alias": "OBJECTID",
   "domain": null
  },
  {
   "name": "Shape",
   "type": "esriFieldTypeGeometry",
   "alias": "Shape",
   "domain": null
  },
  {
   "name": "Name",
   "type": "esriFieldTypeString",
   "alias": "Name",
   "domain": null,
   "length": 200
  },
  {
   "name": "MinPS",
   "type": "esriFieldTypeDouble",
   "alias": "MinPS",
   "domain": null
  },
  {
   "name": "MaxPS",
   "type": "esriFieldTypeDouble",
   "alias": "MaxPS",
   "domain": null
  },
  {
   "name": "LowPS",
   "type": "esriFieldTypeDouble",
   "alias": "LowPS",
   "domain": null
  },
  {
   "name": "HighPS",
   "type": "esriFieldTypeDouble",
   "alias": "HighPS",
   "domain": null
  },
  {
   "name": "Category",
   "type": "esriFieldTypeInteger",
   "alias": "Category",
   "domain": {
    "type": "codedValue",
    "name": "MosaicCatalogItemCategoryDomain",
    "description": "Catalog item categories.",
    "codedValues": [
     {
      "name": "Unknown",
      "code": 0
     },
     {
      "name": "Primary",
      "code": 1
     },
     {
      "name": "Overview",
      "code": 2
     },
     {
      "name": "Unprocessed Overview",
      "code": 3
     },
     {
      "name": "Partial Overview",
      "code": 4
     },
     {
      "name": "Inactive",
      "code": 5
     },
     {
      "name": "Uploaded",
      "code": 253
     },
     {
      "name": "Incomplete",
      "code": 254
     },
     {
      "name": "Custom",
      "code": 255
     }
    ],
    "mergePolicy": "esriMPTDefaultValue",
    "splitPolicy": "esriSPTDefaultValue"
   }
  },
  {
   "name": "Tag",
   "type": "esriFieldTypeString",
   "alias": "Tag",
   "domain": null,
   "length": 100
  },
  {
   "name": "GroupName",
   "type": "esriFieldTypeString",
   "alias": "GroupName",
   "domain": null,
   "length": 100
  },
  {
   "name": "ProductName",
   "type": "esriFieldTypeString",
   "alias": "ProductName",
   "domain": null,
   "length": 100
  },
  {
   "name": "CenterX",
   "type": "esriFieldTypeDouble",
   "alias": "CenterX",
   "domain": null
  },
  {
   "name": "CenterY",
   "type": "esriFieldTypeDouble",
   "alias": "CenterY",
   "domain": null
  },
  {
   "name": "ZOrder",
   "type": "esriFieldTypeInteger",
   "alias": "ZOrder",
   "domain": null
  },
  {
   "name": "Shape_Length",
   "type": "esriFieldTypeDouble",
   "alias": "Shape_Length",
   "domain": null
  },
  {
   "name": "Shape_Area",
   "type": "esriFieldTypeDouble",
   "alias": "Shape_Area",
   "domain": null
  },
  {
   "name": "cd_itemname",
   "type": "esriFieldTypeString",
   "alias": "Item Name",
   "domain": null,
   "length": 255
  },
  {
   "name": "cd_itemsource",
   "type": "esriFieldTypeString",
   "alias": "Item Source",
   "domain": null,
   "length": 4096
  },
  {
   "name": "cd_itemtype",
   "type": "esriFieldTypeString",
   "alias": "Item Type",
   "domain": null,
   "length": 255
  },
  {
   "name": "BisDatasetId",
   "type": "esriFieldTypeGUID",
   "alias": "BisDatasetId",
   "domain": null,
   "length": 38
  },
  {
   "name": "DataType",
   "type": "esriFieldTypeString",
   "alias": "Data Type",
   "domain": {
    "type": "codedValue",
    "name": "DATATYPE",
    "description": "list of data types",
    "codedValues": [
     {
      "name": "ASCII Grid",
      "code": "ASCII Grid"
     },
     {
      "name": "BAG",
      "code": "BAG"
     },
     {
      "name": "CRF",
      "code": "CRF"
     },
     {
      "name": "Esri Grid",
      "code": "Esri Grid"
     },
     {
      "name": "Floating Point Grid",
      "code": "Floating Point Grid"
     },
     {
      "name": "GDB Raster",
      "code": "GDB Raster"
     },
     {
      "name": "GeoTiff (Elevation)",
      "code": "GeoTiff (Elevation)"
     },
     {
      "name": "GeoTiff (RGB)",
      "code": "GeoTiff (RGB)"
     },
     {
      "name": "HDF5",
      "code": "HDF5"
     },
     {
      "name": "Line",
      "code": "Line"
     },
     {
      "name": "MRF",
      "code": "MRF"
     },
     {
      "name": "Mosaic Dataset",
      "code": "Mosaic Dataset"
     },
     {
      "name": "Multipoint",
      "code": "Multipoint"
     },
     {
      "name": "Other",
      "code": "Other"
     },
     {
      "name": "Point",
      "code": "Point"
     },
     {
      "name": "Point Cloud (LAS)",
      "code": "Point Cloud (LAS)"
     },
     {
      "name": "Point Cloud (LASD)",
      "code": "Point Cloud (LASD)"
     },
     {
      "name": "Polygon",
      "code": "Polygon"
     },
     {
      "name": "S102",
      "code": "S102"
     },
     {
      "name": "ShapeFile",
      "code": "ShapeFile"
     },
     {
      "name": "TIN",
      "code": "TIN"
     }
    ],
    "mergePolicy": "esriMPTDefaultValue",
    "splitPolicy": "esriSPTDefaultValue"
   },
   "length": 255
  },
  {
   "name": "PercentCoverage",
   "type": "esriFieldTypeDouble",
   "alias": "Percent Coverage",
   "domain": null
  },
  {
   "name": "BisCellSize",
   "type": "esriFieldTypeDouble",
   "alias": "BIS Cell Size",
   "domain": null
  },
  {
   "name": "VerticalUnits",
   "type": "esriFieldTypeString",
   "alias": "Vertical Units",
   "domain": {
    "type": "codedValue",
    "name": "VERTICAL_UNITS",
    "description": "list of vertical units",
    "codedValues": [
     {
      "name": "Meters",
      "code": "Meters"
     },
     {
      "name": "Feet",
      "code": "Feet"
     },
     {
      "name": "Fathoms",
      "code": "Fathoms"
     },
     {
      "name": "US Survey Feet",
      "code": "Feet_US"
     }
    ],
    "mergePolicy": "esriMPTDefaultValue",
    "splitPolicy": "esriSPTDefaultValue"
   },
   "length": 255
  },
  {
   "name": "Directionality",
   "type": "esriFieldTypeString",
   "alias": "Directionality",
   "domain": {
    "type": "codedValue",
    "name": "DIRECTIONALITY",
    "description": "list of directionality",
    "codedValues": [
     {
      "name": "Positive Up",
      "code": "Positive Up"
     },
     {
      "name": "Positive Down",
      "code": "Positive Down"
     }
    ],
    "mergePolicy": "esriMPTDefaultValue",
    "splitPolicy": "esriSPTDefaultValue"
   },
   "length": 255
  },
  {
   "name": "ProxyRasterPath",
   "type": "esriFieldTypeString",
   "alias": "Proxy Raster Path",
   "domain": null,
   "length": 1024
  },
  {
   "name": "MinElevation",
   "type": "esriFieldTypeDouble",
   "alias": "Min Elevation",
   "domain": null
  },
  {
   "name": "MaxElevation",
   "type": "esriFieldTypeDouble",
   "alias": "Max Elevation",
   "domain": null
  },
  {
   "name": "DepthField",
   "type": "esriFieldTypeString",
   "alias": "Depth Field",
   "domain": null,
   "length": 255
  },
  {
   "name": "CellSize",
   "type": "esriFieldTypeDouble",
   "alias": "CellSize",
   "domain": null
  }
 ],
 "capabilities": "Image,Metadata,Mensuration,Catalog",
 "defaultMosaicMethod": "LockRaster",
 "allowedMosaicMethods": "LockRaster,NorthWest,Center,ByAttribute,Nadir,Viewpoint,Seamline,None",
 "sortField": "",
 "sortValue": null,
 "sortAscending": true,
 "mosaicOperator": "First",
 "maxDownloadSizeLimit": 2048,
 "defaultCompressionQuality": 75,
 "defaultResamplingMethod": "Bilinear",
 "maxImageHeight": 4100,
 "maxImageWidth": 15000,
 "maxRecordCount": 1000,
 "maxDownloadImageCount": 20,
 "maxMosaicImageCount": 20,
 "allowRasterFunction": true,
 "rasterFunctionInfos": [
  {
   "name": "None",
   "description": "Make a Raster or Raster Dataset into a Function Raster Dataset.",
   "help": ""
  },
  {
   "name": "None",
   "description": "Make a Raster or Raster Dataset into a Function Raster Dataset.",
   "help": ""
  }
 ],
 "rasterTypeInfos": [
  {
   "name": "Raster Dataset",
   "description": "Supports all ArcGIS Raster Datasets",
   "help": ""
  }
 ],
 "mensurationCapabilities": "Basic",
 "hasHistograms": true,
 "hasColormap": false,
 "hasRasterAttributeTable": false,
 "minScale": 0,
 "maxScale": 0,
 "exportTilesAllowed": false,
 "supportsStatistics": true,
 "supportsAdvancedQueries": true,
 "editFieldsInfo": null,
 "ownershipBasedAccessControlForRasters": null,
 "allowComputeTiePoints": false,
 "useStandardizedQueries": true,
 "advancedQueryCapabilities": {
  "useStandardizedQueries": true,
  "supportsStatistics": true,
  "supportsOrderBy": true,
  "supportsDistinct": true,
  "supportsPagination": true
 },
 "spatialReference": {
  "wkid": 102100,
  "latestWkid": 3857
 }
}
